BEGIN:VCALENDAR
VERSION:2.0
PRODID:-//ChamberMaster//Event Calendar 2.0//EN
METHOD:PUBLISH
X-PUBLISHED-TTL:P3D
REFRESH-INTERVAL:P3D
CALSCALE:GREGORIAN
BEGIN:VEVENT
DTSTART:20230504T170000Z
DTEND:20230504T200000Z
X-MICROSOFT-CDO-ALLDAYEVENT:FALSE
SUMMARY:Women in Business Luncheon
DESCRIPTION:Enjoy an elegant meal and network with other career-focused women.
X-ALT-DESC;FMTTYPE=text/html:<span style="background-color:rgb(255\, 255\, 255)\; color:rgb(51\, 51\, 51)\; font-family:sans-serif\,arial\,verdana\,trebuchet ms\; font-size:13px">Enjoy an elegant meal and network with other career-focused women.</span>
LOCATION:Mount Vernon Canyon Club 24933 Club House Circle Golden\, CO 80401
UID:e.551.9056
SEQUENCE:3
DTSTAMP:20260422T172758Z
URL:https://business.goldenchamber.org/events/details/women-in-business-luncheon-05-04-2023-9056
END:VEVENT

END:VCALENDAR
