BEGIN:VCALENDAR
VERSION:2.0
PRODID:-//ChamberMaster//Event Calendar 2.0//EN
METHOD:PUBLISH
X-PUBLISHED-TTL:P3D
REFRESH-INTERVAL:P3D
CALSCALE:GREGORIAN
BEGIN:VEVENT
DTSTART:20260228T230000Z
DTEND:20260301T010000Z
X-MICROSOFT-CDO-ALLDAYEVENT:FALSE
SUMMARY:Wine\, Women and Wellness
DESCRIPTION:Sip\, chat\, and chill at Wine\, Women & Wellness GOLDEN   your ultimate vibe for self-love and good times!\n\n\n\n\nGrab your besties for a night of free pampering from local businesses\, wine\, giveaways\, and laughs!\n\nWine Women & Wellness\n\nCome join us for our Wine Women and Wellness event hosted by Impact Chiropractic. We feature all locally owned\, (mostly) women owned businesses to pamper you for an evening. Try out 10+ complimentary vendor services from flash tattoos\, chair massage\, facial massage\, chiropractic analysis\, SoftWave therapy\, nail polish change\, to vitamin injections\, and more!\n\nWe will have a grazing table and other snacks as well as free wine!\n\n\n\nTickets are FREE we just ask for your RSVP so we can plan accordlingly!\n\nBring your gal pals and enjoy a fun night out together!\n\nhttps://www.eventbrite.com/e/1980039553606?aff=oddtdtcreator
X-ALT-DESC;FMTTYPE=text/html:<div>\n<div style="margin-left:0px\; margin-right:0px">Sip\, chat\, and chill at Wine\, Women &amp\; Wellness GOLDEN &ndash\; your ultimate vibe for self-love and good times!</div>\n</div>\n\n<div>\n<div>\n<p>Grab your besties for a night of free pampering from local businesses\, wine\, giveaways\, and laughs!</p>\n\n<p>Wine Women &amp\; Wellness</p>\n\n<p>Come join us for our Wine Women and Wellness event hosted by Impact Chiropractic. We feature all locally owned\, (mostly) women owned businesses to pamper you for an evening. Try out 10+ complimentary vendor services from flash tattoos\, chair massage\, facial massage\, chiropractic analysis\, SoftWave therapy\, nail polish change\, to vitamin injections\, and more!</p>\n\n<p>We will have a grazing table and other snacks as well as free wine!<br />\n<br />\nTickets are FREE we just ask for your RSVP so we can plan accordlingly!<br />\nBring your gal pals and enjoy a fun night out together!<br />\nhttps://www.eventbrite.com/e/1980039553606?aff=oddtdtcreator</p>\n</div>\n</div>\n
LOCATION:17211 South Golden Road #Ste 110 Golden\, CO 80401
UID:e.551.13596
SEQUENCE:3
DTSTAMP:20260421T091457Z
URL:https://business.goldenchamber.org/events/details/wine-women-and-wellness-13596
END:VEVENT

END:VCALENDAR
