BEGIN:VCALENDAR
VERSION:2.0
PRODID:-//ChamberMaster//Event Calendar 2.0//EN
METHOD:PUBLISH
X-PUBLISHED-TTL:P3D
REFRESH-INTERVAL:P3D
CALSCALE:GREGORIAN
BEGIN:VEVENT
DTSTART:20220419T140000Z
DTEND:20220419T150000Z
X-MICROSOFT-CDO-ALLDAYEVENT:FALSE
SUMMARY:What's Brewing Golden: Coffee\, Commerce\, Community
DESCRIPTION:Held the 3rd Tuesday of each month at 8:00 a.m.  All are welcome to this informative meeting. \n\n\n\nFor 2022\, we have decided to streamline our Golden Merchants Meeting and our Coffee Connections and re-launch as "What's Brewing Golden: Coffee\, Commerce\, Community". This monthly meeting will be on the 3rd Tuesday of each month from 8 - 9 am\, hosted by the Golden Hotel. Each month you will hear an update from City Council\, DDA\, City of Golden Police\, and the Chamber\, along with a business spotlight. What's Brewing Golden not only offers an opportunity to hear from the City and Chamber\, but is a great way for our business community to connect to one another and support one another. \n\n\n\n\n\nThis meeting is open to all businesses within the Golden area but with a focus on small businesses and restaurants within the City limits of Golden. This meeting is provided as a service by the Golden Chamber of Commerce. Chamber membership is highly encouraged but is not required to attend. Guests are welcome. \n\n\n\nThank you to our generous host and coffee provider\, The Golden Hotel! \n\nWe will meet monthly at The Golden Hotel in the lounge adjacent to the Bridgewater Grill. \n\n800 11th Street\n\n\n\nCan't attend in person? That's okay. We will also set up a Zoom link or conference call number. Email info@goldenchamber.org if you need to join remotely instead. \n\n\n\nPlease join us!
X-ALT-DESC;FMTTYPE=text/html:<span style="font-size:18px\;"><span style="font-family:arial\;"><strong><span style="color:#A52A2A\;">Held the 3rd Tuesday of each month at 8:00 a.m.&nbsp\; All are welcome to this informative meeting.&nbsp\;</span></strong></span></span><br />\n<br />\n<span style="font-family:tahoma\;"><span style="color: rgb(67\, 64\, 77)\; font-size: 16px\;">For 2022\, we have decided to streamline our Golden Merchants Meeting and our Coffee Connections and re-launch as &quot\;What&#39\;s Brewing Golden: Coffee\, Commerce\, Community&quot\;. This monthly meeting will be on the 3rd Tuesday of each month from 8 - 9 am\, hosted by the Golden Hotel. Each month you will hear an update from City Council\, DDA\, City of Golden Police\, and the Chamber\, along with a business spotlight. What&#39\;s Brewing Golden not only offers an opportunity to hear from the City and Chamber\, but is a great way for our business community to connect to one another and support one another.&nbsp\;</span><br />\n<br />\n<br />\n<span style="font-size:16px\;"><em><span style="color:#000080\;">This meeting is open to all businesses within the Golden area but with a focus on small businesses and restaurants within the City limits of Golden.&nbsp\;This meeting is provided as a service by the Golden Chamber of Commerce. Chamber membership is highly encouraged but is not required to attend. Guests are welcome.&nbsp\;</span></em></span></span><br />\n<br />\n<strong><span style="color:#A52A2A\;"><span style="font-size:16px\;">Thank you to our generous host and coffee provider\, The Golden Hotel!&nbsp\;</span></span></strong><br />\n<span style="font-size:14px\;">We will meet monthly at The Golden Hotel in the lounge adjacent to the Bridgewater Grill.&nbsp\;<br />\n800 11th Street</span><br />\n<br />\nCan&#39\;t attend in person? That&#39\;s okay. We will also set up a Zoom link or conference call number. Email info@goldenchamber.org if you need to join remotely instead.&nbsp\;<br />\n<br />\nPlease join us!&nbsp\;
LOCATION:The Golden Hotel lounge 800 11th Street Golden\, CO 80401
UID:e.551.8338
SEQUENCE:3
DTSTAMP:20260425T181524Z
URL:https://business.goldenchamber.org/events/details/what-s-brewing-golden-coffee-commerce-community-8338
END:VEVENT

END:VCALENDAR
