BEGIN:VCALENDAR
VERSION:2.0
PRODID:-//ChamberMaster//Event Calendar 2.0//EN
METHOD:PUBLISH
X-PUBLISHED-TTL:P3D
REFRESH-INTERVAL:P3D
CALSCALE:GREGORIAN
BEGIN:VEVENT
DTSTART:20250318T140000Z
DTEND:20250318T150000Z
X-MICROSOFT-CDO-ALLDAYEVENT:FALSE
SUMMARY:What's Brewing Golden
DESCRIPTION:Join us for hot coffee & hot topics around town!\n\n\n\nWhat's Brewing is a monthly meeting\, held on the 3rd Tuesday of each month from 8 - 9 am.  Each month you will hear an update from City Council\, Downtown Development Authority (DDA)\, City of Golden Police\, regional representatives and the Golden Chamber\, along with a Business Spotlight.  What's Brewing Golden not only offers an opportunity to hear from the City and Chamber\, but is a great way for our business community to connect.\n\n\n\nOur March Business Spotlight is New Home Co\, developers of the new single-family Golden Overlook development in south Golden.\n\n\n\nThis meeting is open to all businesses within the Golden area with a focus on small businesses within the City limits of Golden.  This meeting is provided as a service by the Golden Chamber of Commerce.  Chamber membership is highly encouraged but is not required to attend. Guests are welcome.
X-ALT-DESC;FMTTYPE=text/html:<em>Join us for hot coffee &amp\; hot topics around town!</em><br />\n<br />\nWhat&#39\;s Brewing is a monthly meeting\, held on the 3rd Tuesday of each month from 8 - 9 am.&nbsp\; Each month you will hear an update from City Council\, Downtown Development Authority (DDA)\, City of Golden Police\, regional representatives and the Golden Chamber\, along with a Business Spotlight.&nbsp\; What&#39\;s Brewing Golden not only offers an opportunity to hear from the City and Chamber\, but is a great way for our business community to connect.<br />\n<br />\n<strong>Our March Business Spotlight is New Home Co\, developers of the new single-family Golden Overlook development in south Golden.</strong><br />\n<br />\n<em>This meeting is open to all businesses within the Golden area with a focus on small businesses within the City limits of Golden.&nbsp\; This meeting is provided as a service by the Golden Chamber of Commerce.&nbsp\; Chamber membership is highly encouraged but is not required to attend. Guests are welcome.&nbsp\;</em>
LOCATION:The Golden Outpost 17695 S Golden Rd Golden CO 80401 Parking is available on site. Additional parking is located at Hockey Stop Park behind Tequila's restaurant to across the street at The Village Shopping Center. Please be mindful not to utilize parking at the Chiropractic and Animal Hospital clinics next door\, as those spaces are reserved for clients.
UID:e.551.10931
SEQUENCE:3
DTSTAMP:20260425T184330Z
URL:https://business.goldenchamber.org/events/details/what-s-brewing-golden-03-18-2025-10931
END:VEVENT

END:VCALENDAR
