BEGIN:VCALENDAR
VERSION:2.0
PRODID:-//ChamberMaster//Event Calendar 2.0//EN
METHOD:PUBLISH
X-PUBLISHED-TTL:P3D
REFRESH-INTERVAL:P3D
CALSCALE:GREGORIAN
BEGIN:VEVENT
DTSTART:20260819T180000Z
DTEND:20260819T190000Z
X-MICROSOFT-CDO-ALLDAYEVENT:FALSE
SUMMARY:Wednesday Workshop: Database Tools for Lead Generation & Market Insights
DESCRIPTION:Join Dan Feiveson\, owner of Jeffco BdB\, as he highlights databases and data tools for Jefferson County businesses: lead generation\, real estate trends and local market insights.
X-ALT-DESC;FMTTYPE=text/html:<span style="font-size:16px\;">Join Dan Feiveson\, owner of Jeffco BdB\, as he highlights databases and data tools for Jefferson County businesses: lead generation\, real estate trends and local market insights.</span><br />\n<br />\n&nbsp\;
LOCATION:Join us virtually this month via ZOOM
UID:e.551.14748
SEQUENCE:3
DTSTAMP:20260421T075938Z
URL:https://business.goldenchamber.org/events/details/wednesday-workshop-database-tools-for-lead-generation-market-insights-14748
END:VEVENT

END:VCALENDAR
