BEGIN:VCALENDAR
VERSION:2.0
PRODID:-//ChamberMaster//Event Calendar 2.0//EN
METHOD:PUBLISH
X-PUBLISHED-TTL:P3D
REFRESH-INTERVAL:P3D
CALSCALE:GREGORIAN
BEGIN:VEVENT
DTSTART:20260715T180000Z
DTEND:20260715T190000Z
X-MICROSOFT-CDO-ALLDAYEVENT:FALSE
SUMMARY:Wednesday Workshop: Colorado Green Business Program
DESCRIPTION:The Colorado Department of Public Health and Environment (CDPHE) will present the services from its Small Business Liaison and Colorado Green Business Program. It will cover the free and nonregulatory programs that CDPHE offers to help small businesses identify which environmental regulations apply to their business and the resources and subject-matter experts to help maintain compliance. It will also introduce the Colorado Green Business Network's free sustainability coaching open to all businesses and its recognition program for businesses that implement projects and practices that lead to the reduction of pollution and increased efficiency.\n\n\n\nThere will be ample time for Q&A!
X-ALT-DESC;FMTTYPE=text/html:<span style="font-size:16px\;"><span style="color: rgb(34\, 34\, 34)\; font-family: Arial\, Helvetica\, sans-serif\;">The Colorado Department of Public Health and Environment (CDPHE) will present the services from its Small Business Liaison&nbsp\;and Colorado Green Business Program. It will cover the free and nonregulatory programs that CDPHE offers to help small businesses identify which environmental&nbsp\;regulations apply to their business and the resources and subject-matter experts to help maintain compliance. It will also introduce the Colorado Green Business Network&#39\;s free sustainability coaching open to all businesses and its recognition program for businesses&nbsp\;that implement projects and practices that lead to the reduction of pollution and increased efficiency.<br />\n<br />\nThere will be ample time for Q&amp\;A!</span></span>
LOCATION:Join us virtually this month via ZOOM
UID:e.551.15093
SEQUENCE:3
DTSTAMP:20260425T105447Z
URL:https://business.goldenchamber.org/events/details/wednesday-workshop-colorado-green-business-program-15093
END:VEVENT

END:VCALENDAR
