BEGIN:VCALENDAR
VERSION:2.0
PRODID:-//ChamberMaster//Event Calendar 2.0//EN
METHOD:PUBLISH
X-PUBLISHED-TTL:P3D
REFRESH-INTERVAL:P3D
CALSCALE:GREGORIAN
BEGIN:VEVENT
DTSTART:20210226T000000Z
DTEND:20210226T013000Z
X-MICROSOFT-CDO-ALLDAYEVENT:FALSE
SUMMARY:Virtual Speed Networking with 3 Chambers!
DESCRIPTION:Meet great new contacts in our high paced engaging evening\, hosted by the Evergreen Chamber\, Golden Chamber\, and West Metro Chamber. \n\n\n\nGrow your business by being a part of the conversation!
X-ALT-DESC;FMTTYPE=text/html:Meet great new contacts in our high paced engaging evening\, hosted by the Evergreen Chamber\, Golden Chamber\, and West Metro Chamber.&nbsp\;<br />\n<br />\nGrow your business by being a part of the conversation!&nbsp\;<br />\n&nbsp\;
LOCATION:Virtual Event - link will be provided upon registration.
UID:e.551.7258
SEQUENCE:3
DTSTAMP:20260421T185826Z
URL:https://business.goldenchamber.org/events/details/virtual-speed-networking-with-3-chambers-7258
END:VEVENT

END:VCALENDAR
