BEGIN:VCALENDAR
VERSION:2.0
PRODID:-//ChamberMaster//Event Calendar 2.0//EN
METHOD:PUBLISH
X-PUBLISHED-TTL:P3D
REFRESH-INTERVAL:P3D
CALSCALE:GREGORIAN
BEGIN:VEVENT
DTSTART:20210210T000000Z
DTEND:20210210T020000Z
X-MICROSOFT-CDO-ALLDAYEVENT:FALSE
SUMMARY:VIBE@FIVE - Business After Hours Social Event
DESCRIPTION:VIBE@FIVE is Golden's Happy Hour! Come join other members of the Golden Chamber of Commerce for this "Very Important Business Event" - VIBE!\n\n\n\nThis event is for members of the Golden Chamber of Commerce and their guests as well as for members of the Golden Young Professionals.\n\n\n\nStop in for a quick hello and a refreshment right after work and a chance to get to know fellow members of the Golden Chamber of Commerce and Golden Young Professionals. This is a great networking and socializing event. \n\n\n\nFebruary's VIBE@Five is generously hosted by Golden Moon Speak Easy\n\n1111 Miners Alley\, Golden\, CO\n\n\n\n\n\nAttendance is being limited. Please register in advance to secure your spot. \n\n\n\nMasks required to attend.
X-ALT-DESC;FMTTYPE=text/html:<p>VIBE@FIVE is Golden&#39\;s Happy Hour! Come join other members of the Golden Chamber of Commerce for this &quot\;<strong>V</strong>ery&nbsp\;<strong>I</strong>mportant&nbsp\;<strong>B</strong>usiness&nbsp\;<strong>E</strong>vent&quot\; - VIBE!<br />\n<br />\nThis event is for members of the Golden Chamber of Commerce and their guests as well as for members of the Golden Young Professionals.<br />\n<br />\nStop in for a quick hello and a refreshment right after work and a chance to get to know fellow members of the Golden Chamber of Commerce and Golden Young Professionals. This is a great networking and socializing event.&nbsp\;<br />\n<br />\n<b><em>February&#39\;s VIBE@Five is generously hosted by Golden Moon Speak Easy</em></b><br />\n1111 Miners Alley\, Golden\, CO<br />\n<br />\n<br />\nAttendance is being limited. Please register in advance to secure your spot.&nbsp\;<br />\n<br />\nMasks required to attend.&nbsp\;<br />\n&nbsp\;</p>\n
LOCATION:February's VIBE@Five is generously hosted by Golden Moon Speak Easy 1111 Miners Alley\, Golden\, CO
UID:e.551.7237
SEQUENCE:3
DTSTAMP:20260421T191226Z
URL:https://business.goldenchamber.org/events/details/vibe-five-business-after-hours-social-event-02-09-2021-7237
END:VEVENT

END:VCALENDAR
