BEGIN:VCALENDAR
VERSION:2.0
PRODID:-//ChamberMaster//Event Calendar 2.0//EN
METHOD:PUBLISH
X-PUBLISHED-TTL:P3D
REFRESH-INTERVAL:P3D
CALSCALE:GREGORIAN
BEGIN:VEVENT
DTSTART:20261111T000000Z
DTEND:20261111T020000Z
X-MICROSOFT-CDO-ALLDAYEVENT:FALSE
SUMMARY:V.I.B.E.@Five
DESCRIPTION:Join us for our Very Important Business Event -- the V.I.B.E.@Five!  Our monthly Chamber after-hours is a casual gathering to network with fellow members and guests are always welcome.\n\n\n\nThank you to this month's host\, Gnarly's!  Light food will be provided\, and your first drink will generously be covered by Mesa Meadows.
X-ALT-DESC;FMTTYPE=text/html:Join us for our Very Important Business Event -- the V.I.B.E.@Five!&nbsp\; Our monthly Chamber after-hours is a casual gathering to network with fellow members and guests are always welcome.<br />\n<br />\nThank you to this month&#39\;s host\, Gnarly&#39\;s!&nbsp\; Light food will be provided\, and your first drink will generously be covered by Mesa Meadows.<br />\n<br />\n<br />\n<br />\n<br />\n<br />\n<br />\n&nbsp\;
LOCATION:Gnarly's 1224 Washington Ave\, Suite 200 Golden\, CO 80401
UID:e.551.12665
SEQUENCE:3
DTSTAMP:20260419T152443Z
URL:https://business.goldenchamber.org/events/details/v-i-b-e-five-11-10-2026-12665
END:VEVENT

END:VCALENDAR
