BEGIN:VCALENDAR
VERSION:2.0
PRODID:-//ChamberMaster//Event Calendar 2.0//EN
METHOD:PUBLISH
X-PUBLISHED-TTL:P3D
REFRESH-INTERVAL:P3D
CALSCALE:GREGORIAN
BEGIN:VEVENT
DTSTART:20240509T180000Z
DTEND:20240509T180000Z
X-MICROSOFT-CDO-ALLDAYEVENT:FALSE
SUMMARY:State 38 Distilling Floral & Cocktail Workshop
DESCRIPTION:Join State 38 Distilling & TeeLee Floral and Events on for a floral arranging workshop at the distillery\, just in time for Mother's Day! Whether you're searching for the perfect Mother's Day gift or looking for a fun night out\, this workshop is perfect. You'll receive step-by-step guidance on creating your own floral bouquet with a vase included to take home\, while enjoying cocktails from State 38. All materials are included\, along with 2 drinks and light snacks. Tickets are $115. Bring your mom for a fun Mother's Day celebration\, or gather your girlfriends for a memorable evening.\n\nGet Tickets Today!
X-ALT-DESC;FMTTYPE=text/html:<span style="color:rgb(0\, 0\, 0)\; font-family:arial\; font-size:14.4789px">Join <a href="https://www.state38.com/events">State 38 Distilling</a> &amp\; </span><a href="https://teeleefloralandevents.com/" style="color: rgb(0\, 0\, 0)\; text-decoration-line: none\; padding-bottom: 0.05em\; border-bottom: 1px solid rgba(216\, 133\, 24\, 0.3)\; transition: border-color 0.15s ease-out 0s\, color 0.15s ease-out 0s\; display: inline\; font-size: 14.4789px\; font-family: Arial\; text-align: center\; white-space-collapse: preserve\;" target="_blank">TeeLee Floral and Events</a><span style="color:rgb(0\, 0\, 0)\; font-family:arial\; font-size:14.4789px"> on for a</span><a href="https://www.eventbrite.com/e/state-38-distilling-floral-workshop-tickets-873626950727?aff=oddtdtcreator" style="color: rgb(0\, 0\, 0)\; text-decoration-line: none\; padding-bottom: 0.05em\; border-bottom: 1px solid rgba(216\, 133\, 24\, 0.3)\; transition: border-color 0.15s ease-out 0s\, color 0.15s ease-out 0s\; display: inline\; font-size: 14.4789px\; font-family: Arial\; text-align: center\; white-space-collapse: preserve\;" target="_blank"> floral arranging workshop</a><span style="color:rgb(0\, 0\, 0)\; font-family:arial\; font-size:14.4789px"> at the distillery\, just in time for Mother&#39\;s Day! Whether you&#39\;re searching for the perfect </span><strong>Mother&#39\;s Day</strong><span style="color:rgb(0\, 0\, 0)\; font-family:arial\; font-size:14.4789px"> gift or looking for a fun night out\, this workshop is perfect. You&#39\;ll receive step-by-step guidance on creating your own floral bouquet with a vase included to take home\, while enjoying cocktails from State 38. All materials are included\, along with 2 drinks and light snacks. Tickets are $115. Bring your mom for a fun Mother&#39\;s Day celebration\, or gather your girlfriends for a memorable evening.<br />\n<a href="https://www.eventbrite.com/e/state-38-distilling-floral-workshop-tickets-873626950727?aff=oddtdtcreator">Get Tickets Today!&nbsp\;</a></span>
LOCATION:STATE 38 DISTILLING TASTING ROOM 400 Corporate Circle\, Suite B\, Golden\, CO 80401
UID:e.551.9641
SEQUENCE:3
DTSTAMP:20260421T041448Z
URL:https://business.goldenchamber.org/events/details/state-38-distilling-floral-cocktail-workshop-9641
END:VEVENT

END:VCALENDAR
