BEGIN:VCALENDAR
VERSION:2.0
PRODID:-//ChamberMaster//Event Calendar 2.0//EN
METHOD:PUBLISH
X-PUBLISHED-TTL:P3D
REFRESH-INTERVAL:P3D
CALSCALE:GREGORIAN
BEGIN:VEVENT
DTSTART:20270827T000000Z
DTEND:20270827T020000Z
X-MICROSOFT-CDO-ALLDAYEVENT:FALSE
SUMMARY:Spirits Club - Table Mountain Inn
DESCRIPTION:Step into an evening designed for discovery. Our Spirits Club is a curated monthly tasting experience where featured distillers and premium brands take center stage. Each month\, we explore a different spirit diving into its heritage\, craftsmanship\, and unique flavor profile through a guided tasting flight.
X-ALT-DESC;FMTTYPE=text/html:<span style="color:rgb(71\, 29\, 23)\; font-family:lato\,sans-serif\; font-size:16px">Step into an evening designed for discovery. Our Spirits Club is a curated monthly tasting experience where featured distillers and premium brands take center stage. Each month\, we explore a different spirit&mdash\;diving into its heritage\, craftsmanship\, and unique flavor profile through a guided tasting flight.</span>
LOCATION:Table Mountain Inn 1310 Washington Ave\, Golden\, CO 80401
UID:e.551.14823
SEQUENCE:3
DTSTAMP:20260420T020340Z
URL:https://business.goldenchamber.org/events/details/spirits-club-table-mountain-inn-08-26-2027-14823
END:VEVENT

END:VCALENDAR
