BEGIN:VCALENDAR
VERSION:2.0
PRODID:-//ChamberMaster//Event Calendar 2.0//EN
METHOD:PUBLISH
X-PUBLISHED-TTL:P3D
REFRESH-INTERVAL:P3D
CALSCALE:GREGORIAN
BEGIN:VEVENT
DTSTART:20241016T220000Z
DTEND:20241017T000000Z
X-MICROSOFT-CDO-ALLDAYEVENT:FALSE
SUMMARY:Ribbon Cutting: TeamLogic IT
DESCRIPTION:Join us for appetizers\, refreshments\, and networking at this joint Ribbon Cutting with the West Metro Chamber.
X-ALT-DESC;FMTTYPE=text/html:Join us for appetizers\, refreshments\, and networking at this joint Ribbon Cutting with the West Metro Chamber.
LOCATION:4704 N Harlan St.\, Ste. 310\, Denver\, CO 80212
UID:e.551.9859
SEQUENCE:3
DTSTAMP:20260424T221008Z
URL:https://business.goldenchamber.org/events/details/ribbon-cutting-teamlogic-it-9859
END:VEVENT

END:VCALENDAR
