BEGIN:VCALENDAR
VERSION:2.0
PRODID:-//ChamberMaster//Event Calendar 2.0//EN
METHOD:PUBLISH
X-PUBLISHED-TTL:P3D
REFRESH-INTERVAL:P3D
CALSCALE:GREGORIAN
BEGIN:VEVENT
DTSTART:20220422T230000Z
DTEND:20220422T231500Z
X-MICROSOFT-CDO-ALLDAYEVENT:FALSE
SUMMARY:Ribbon Cutting: Golden Mercantile and Cooperative
DESCRIPTION:Help us celebrate the newest addition to Washington Avenue. Featuring products from local artisans\, makers\, and shakers.
X-ALT-DESC;FMTTYPE=text/html:Help us celebrate the newest addition to Washington Avenue. Featuring products from local artisans\, makers\, and shakers.&nbsp\;
LOCATION:1208 Washington Ave. Golden\, CO 80401
UID:e.551.8609
SEQUENCE:3
DTSTAMP:20260425T165618Z
URL:https://business.goldenchamber.org/events/details/ribbon-cutting-golden-mercantile-and-cooperative-8609
END:VEVENT

END:VCALENDAR
