BEGIN:VCALENDAR
VERSION:2.0
PRODID:-//ChamberMaster//Event Calendar 2.0//EN
METHOD:PUBLISH
X-PUBLISHED-TTL:P3D
REFRESH-INTERVAL:P3D
CALSCALE:GREGORIAN
BEGIN:VEVENT
DTSTART:20211014T210000Z
DTEND:20211015T000000Z
X-MICROSOFT-CDO-ALLDAYEVENT:FALSE
SUMMARY:Ribbon Cutting for SkiData\, Inc
DESCRIPTION:Skidata invites you to celebrate their Ribbon Cutting and Grand Opening with them!\n\n\n\nRibbon Cutting Ceremony will be at 3:30 PM \n\nGrand Opening celebration is from 3:00 - 6:00 PM
X-ALT-DESC;FMTTYPE=text/html:<span style="font-size:14px\;"><span style="font-family:verdana\;">Skidata invites you to celebrate their Ribbon Cutting and Grand Opening with them!<br />\n<br />\nRibbon Cutting Ceremony will be at 3:30 PM&nbsp\;<br />\nGrand Opening celebration is from 3:00 - 6:00 PM</span></span><br />\n<br />\n&nbsp\;
LOCATION:150 Capital Dr Suite 120 Golden\, Colorado 80401
UID:e.551.8100
SEQUENCE:3
DTSTAMP:20260422T032902Z
URL:https://business.goldenchamber.org/events/details/ribbon-cutting-for-skidata-inc-8100
END:VEVENT

END:VCALENDAR
