BEGIN:VCALENDAR
VERSION:2.0
PRODID:-//ChamberMaster//Event Calendar 2.0//EN
METHOD:PUBLISH
X-PUBLISHED-TTL:P3D
REFRESH-INTERVAL:P3D
CALSCALE:GREGORIAN
BEGIN:VEVENT
DTSTART:20220428T220000Z
DTEND:20220429T000000Z
X-MICROSOFT-CDO-ALLDAYEVENT:FALSE
SUMMARY:Ribbon Cutting Courtyard Marriot
DESCRIPTION:Join us as we help The Courtyard Marriot Celebrate the completion of their remodel.
X-ALT-DESC;FMTTYPE=text/html:Join us as we help The Courtyard Marriot Celebrate the completion of their remodel.&nbsp\;
LOCATION:The Courtyard Denver Golden Redrocks 14700 W. 6th Ave Frontage Rd Golden CO 80401(View Map) 4:00 PM - 6:30 PM Thursday\, April 28\, 2022
UID:e.551.8610
SEQUENCE:3
DTSTAMP:20260425T181502Z
URL:https://business.goldenchamber.org/events/details/ribbon-cutting-courtyard-marriot-8610
END:VEVENT

END:VCALENDAR
