BEGIN:VCALENDAR
VERSION:2.0
PRODID:-//ChamberMaster//Event Calendar 2.0//EN
METHOD:PUBLISH
X-PUBLISHED-TTL:P3D
REFRESH-INTERVAL:P3D
CALSCALE:GREGORIAN
BEGIN:VEVENT
DTSTART:20250305T230000Z
DTEND:20250306T040000Z
X-MICROSOFT-CDO-ALLDAYEVENT:FALSE
SUMMARY:Prime Rib Wednesdays at The Golden Hotel
DESCRIPTION:Includes house or caesar salad\, seasonal vegetables\, mashed potatoes\, and ice cream dessert.
X-ALT-DESC;FMTTYPE=text/html:Includes house or caesar salad\, seasonal vegetables\, mashed potatoes\, and ice cream dessert.
LOCATION:800 11th St.
UID:e.551.10985
SEQUENCE:3
DTSTAMP:20260426T010043Z
URL:https://business.goldenchamber.org/events/details/prime-rib-wednesdays-at-the-golden-hotel-03-05-2025-10985
END:VEVENT

END:VCALENDAR
