BEGIN:VCALENDAR
VERSION:2.0
PRODID:-//ChamberMaster//Event Calendar 2.0//EN
METHOD:PUBLISH
X-PUBLISHED-TTL:P3D
REFRESH-INTERVAL:P3D
CALSCALE:GREGORIAN
BEGIN:VEVENT
DTSTART:20240519T180000Z
DTEND:20240519T220000Z
X-MICROSOFT-CDO-ALLDAYEVENT:FALSE
SUMMARY:Second Annual Paws & Pints Fundraiser
DESCRIPTION:Join us for our second annual Paws & Pints! Meet adoptable and alumni senior pets from Old Dogs New Digs\, take a chance to win raffle items from local businesses\, stop by the "Ask the Veterinarian" table\, buy doggie donuts for your pup\, eat Salvadoran food from D'Toque food truck\, and drink a pint of our Golden Pawz Pale Ale! Raffle proceeds\, as well as a portion of beer\, food\, and event-specific merchandise sales will benefit Old Dogs New Digs.
X-ALT-DESC;FMTTYPE=text/html:<span style="color:rgb(5\, 5\, 5)\; font-family:system-ui\,-apple-system\,system-ui\,.sfnstext-regular\,sans-serif\; font-size:15px">Join us for our second annual Paws &amp\; Pints! Meet adoptable and alumni senior pets from Old Dogs New Digs\, take a chance to win raffle items from local businesses\, stop by the &quot\;Ask the Veterinarian&quot\; table\, buy doggie donuts for your pup\, eat Salvadoran food from D&#39\;Toque food truck\, and drink a pint of our Golden Pawz Pale Ale! Raffle proceeds\, as well as a portion of beer\, food\, and event-specific merchandise sales will benefit Old Dogs New Digs. </span>
LOCATION:Cannonball Creek Brewery 393 N. Washington Ave. Golden\, CO 80403
UID:e.551.9668
SEQUENCE:3
DTSTAMP:20260421T041145Z
URL:https://business.goldenchamber.org/events/details/paws-pints-9668
END:VEVENT

END:VCALENDAR
