BEGIN:VCALENDAR
VERSION:2.0
PRODID:-//ChamberMaster//Event Calendar 2.0//EN
METHOD:PUBLISH
X-PUBLISHED-TTL:P3D
REFRESH-INTERVAL:P3D
CALSCALE:GREGORIAN
BEGIN:VEVENT
DTSTART:20200722T143000Z
DTEND:20200722T153000Z
X-MICROSOFT-CDO-ALLDAYEVENT:FALSE
SUMMARY:New Member Orientation July 2020
DESCRIPTION:Are you new to the Golden Chamber? Or maybe it has been several years since you joined and you just need a refresher of your member benefits? Perhaps you are or a colleague are considering membership? If any of those apply to you\, come to our Chamber Member Orientation on July 22nd! This is the perfect opportunity to learn more about your investment in the Golden Chamber and how to make the most out of your member benefits. \n\n\n\nThis is a virtual event.
X-ALT-DESC;FMTTYPE=text/html:Are you new to the Golden Chamber? Or maybe it has been several&nbsp\;years since you joined and you just need a refresher of your member benefits? Perhaps you are or a colleague are considering membership? If any of those apply to you\, come to our Chamber Member Orientation on July 22nd! This is the perfect opportunity to learn more about your investment in the Golden Chamber and how to make the most out of your member benefits.&nbsp\;<br />\n<br />\nThis is a virtual event.&nbsp\;<br />\n<br />\n<br />\n<br />\n&nbsp\;
LOCATION:The event is virtual. Please register to receive a link.
UID:e.551.7177
SEQUENCE:3
DTSTAMP:20260421T090807Z
URL:https://business.goldenchamber.org/events/details/new-member-orientation-july-2020-7177
END:VEVENT

END:VCALENDAR
