BEGIN:VCALENDAR
VERSION:2.0
PRODID:-//ChamberMaster//Event Calendar 2.0//EN
METHOD:PUBLISH
X-PUBLISHED-TTL:P3D
REFRESH-INTERVAL:P3D
CALSCALE:GREGORIAN
BEGIN:VEVENT
DTSTART;VALUE=DATE:20260221
DTEND;VALUE=DATE:20260222
TRANSP:TRANSPARENT
X-MICROSOFT-CDO-ALLDAYEVENT:TRUE
SUMMARY:Mustache Competition
DESCRIPTION:Golden City Brewery's first annual Mustache Competition February 21st.  Impress the bartenders with your handlebars and win cash prizes!
X-ALT-DESC;FMTTYPE=text/html:Golden City Brewery&#39\;s first annual Mustache Competition February 21st.&nbsp\; Impress the bartenders with your handlebars and win cash prizes!
LOCATION:Golden City Brewery 920 12th ST Golden\, CO 80401
UID:e.551.13593
SEQUENCE:3
DTSTAMP:20260421T101940Z
URL:https://business.goldenchamber.org/events/details/mustache-competition-02-21-2026-13593
END:VEVENT

END:VCALENDAR
