BEGIN:VCALENDAR
VERSION:2.0
PRODID:-//ChamberMaster//Event Calendar 2.0//EN
METHOD:PUBLISH
X-PUBLISHED-TTL:P3D
REFRESH-INTERVAL:P3D
CALSCALE:GREGORIAN
BEGIN:VEVENT
DTSTART:20250313T210000Z
DTEND:20250313T233000Z
X-MICROSOFT-CDO-ALLDAYEVENT:FALSE
SUMMARY:Multi-Chamber Young Professionals Mixer
DESCRIPTION:A fun get-together with other young professionals from surrounding chambers.
X-ALT-DESC;FMTTYPE=text/html:<h2 style="font-style:italic\;">A fun get-together with other young professionals from surrounding chambers.</h2>\n
LOCATION:Joyride Brewing 2501 N. Sheridan Blvd. Edgewater\, CO 80003
UID:e.551.11288
SEQUENCE:3
DTSTAMP:20260425T222920Z
URL:https://business.goldenchamber.org/events/details/multi-chamber-young-professionals-mixer-11288
END:VEVENT

END:VCALENDAR
