BEGIN:VCALENDAR
VERSION:2.0
PRODID:-//ChamberMaster//Event Calendar 2.0//EN
METHOD:PUBLISH
X-PUBLISHED-TTL:P3D
REFRESH-INTERVAL:P3D
CALSCALE:GREGORIAN
BEGIN:VEVENT
DTSTART:20240904T230000Z
DTEND:20240905T010000Z
X-MICROSOFT-CDO-ALLDAYEVENT:FALSE
SUMMARY:Multi-Chamber Young Professionals Happy Hour
DESCRIPTION:Join the Golden\, Arvada\, Evergreen and West Metro Young Professional groups for happy hour!  All Young Professionals (under 40) are welcome to attend.
X-ALT-DESC;FMTTYPE=text/html:<span style="font-size:16px\;">Join the Golden\, Arvada\, Evergreen and West Metro Young Professional groups for happy hour!&nbsp\; All Young Professionals (under 40) are welcome to attend.</span>
LOCATION:The Golden Mill 1012 Ford Street
UID:e.551.9847
SEQUENCE:3
DTSTAMP:20260420T233405Z
URL:https://business.goldenchamber.org/events/details/multi-chamber-young-professionals-happy-hour-9847
END:VEVENT

END:VCALENDAR
