BEGIN:VCALENDAR
VERSION:2.0
PRODID:-//ChamberMaster//Event Calendar 2.0//EN
METHOD:PUBLISH
X-PUBLISHED-TTL:P3D
REFRESH-INTERVAL:P3D
CALSCALE:GREGORIAN
BEGIN:VEVENT
DTSTART;VALUE=DATE:20091014
DTEND;VALUE=DATE:20091015
TRANSP:TRANSPARENT
X-MICROSOFT-CDO-ALLDAYEVENT:TRUE
SUMMARY:Multi Business After Hours
DESCRIPTION:GOLDEN CHAMBER OF COMMERCEMULTI - BUSINESS AFTER HOURSJACKSON COURT - 700 12TH STREETDOWNTOWN GOLDENCOME CHECK THEM OUT!
X-ALT-DESC;FMTTYPE=text/html:<div style="text-align: center"><span style="font-family: Arial"><span style="font-size: smaller"><strong>GOLDEN CHAMBER OF COMMERCE</strong></span></span></div><div style="text-align: center"><span style="font-family: Arial"><span style="font-size: smaller"><strong>MULTI - BUSINESS AFTER HOURS</strong></span></span></div><div style="text-align: center"><span style="font-family: Arial"><span style="font-size: smaller"><strong>JACKSON COURT - 700 12TH STREET</strong></span></span></div><div style="text-align: center"><span style="font-family: Arial"><span style="font-size: smaller"><strong>DOWNTOWN GOLDEN</strong></span></span></div><div style="text-align: center"><span style="font-family: Arial"><span style="font-size: smaller"><strong><em>COME CHECK THEM OUT!</em></strong></span></span></div>
LOCATION:VINTNER'S CELLAR WINERY OF GOLDEN Wine\, food\, door prizes entertainment by ~ "FLY WHEEL"THE GOLDEN DINERFood\, door prizes\, hospitalityGOLDEN FAMILY MEDICINE (upstairs - Suite 220)Come meet Dr. David Gerson and enjoy refreshments!URBAN ESCAPE DAY SPARefreshments\, tours\, special offers\, door prizes\, chair & hand massages
UID:e.551.981
SEQUENCE:3
DTSTAMP:20260424T064607Z
URL:https://business.goldenchamber.org/events/details/multi-business-after-hours-10-14-2009-981
END:VEVENT

END:VCALENDAR
