BEGIN:VCALENDAR
VERSION:2.0
PRODID:-//ChamberMaster//Event Calendar 2.0//EN
METHOD:PUBLISH
X-PUBLISHED-TTL:P3D
REFRESH-INTERVAL:P3D
CALSCALE:GREGORIAN
BEGIN:VEVENT
DTSTART:20250227T003000Z
DTEND:20250228T040000Z
X-MICROSOFT-CDO-ALLDAYEVENT:FALSE
SUMMARY:Mental Health First Aid - VIRTUAL Adult Training 2 Nights
DESCRIPTION:Mental Health First Aid is an interactive course that teaches people how to assist and support others who may be experiencing a mental health or substance use challenge. The curriculum includes a self-paced course\, & a virtual live session led by MHFA instructors. You will receive communications about the self-paced work 2 weeks before the course start date.\n\nTo attend\, you must:\n\n  Complete a self-paced course prior to class.\n\n  Have a valid email address to receive materials and log in.\n\n  Attend both nights to receive certification.\n\nRegistration closes on 2/12/25\, so sign up now!\n\nhttps://lp.constantcontactpages.com/ev/reg/yrjqkd2/lp/c3e1bfc7-834d-4f7b-82f0-ba898128ac92
X-ALT-DESC;FMTTYPE=text/html:<span style="color:rgb(118\, 118\, 118)\; font-family:open sans\,sans-serif\; font-size:15px">Mental Health First Aid is an interactive course that teaches people how to assist and support others who may be experiencing a mental health or substance use challenge. The curriculum includes a self-paced course\, &amp\; a virtual live session led by MHFA instructors. You will receive communications about the self-paced work 2 weeks before the course start date.</span><br />\n<span style="color:rgb(118\, 118\, 118)\; font-family:open sans\,sans-serif\; font-size:15px">To attend\, you must:</span><br />\n<span style="color:rgb(118\, 118\, 118)\; font-family:open sans\,sans-serif\; font-size:15px">&bull\; Complete a self-paced course prior to class.</span><br />\n<span style="color:rgb(118\, 118\, 118)\; font-family:open sans\,sans-serif\; font-size:15px">&bull\; Have a valid email address to receive materials and log in.</span><br />\n<span style="color:rgb(118\, 118\, 118)\; font-family:open sans\,sans-serif\; font-size:15px">&bull\; Attend both nights to receive certification.</span><br />\n<span style="color:rgb(118\, 118\, 118)\; font-family:open sans\,sans-serif\; font-size:15px">Registration closes on 2/12/25\, so sign up now!</span><br />\n<a class="fui-Link ___1q1shib f2hkw1w f3rmtva f1ewtqcl fyind8e f1k6fduh f1w7gpdv fk6fouc fjoy568 figsok6 f1s184ao f1mk8lai fnbmjn9 f1o700av f13mvf36 f1cmlufx f9n3di6 f1ids18y f1tx3yz7 f1deo86v f1eh06m1 f1iescvh fhgqx19 f1olyrje f1p93eir f1nev41a f1h8hb77 f1lqvz6u f10aw75t fsle3fq f17ae5zn" href="https://lp.constantcontactpages.com/ev/reg/yrjqkd2/lp/c3e1bfc7-834d-4f7b-82f0-ba898128ac92" id="menurlj4" rel="noreferrer noopener" target="_blank" title="https://lp.constantcontactpages.com/ev/reg/yrjqkd2/lp/c3e1bfc7-834d-4f7b-82f0-ba898128ac92">https://lp.constantcontactpages.com/ev/reg/yrjqkd2/lp/c3e1bfc7-834d-4f7b-82f0-ba898128ac92</a>
LOCATION:Virtual location. Link to access training provided after registration.
UID:e.551.10998
SEQUENCE:3
DTSTAMP:20260425T224330Z
URL:https://business.goldenchamber.org/events/details/mental-health-first-aid-virtual-adult-training-2-nights-10998
END:VEVENT

END:VCALENDAR
