BEGIN:VCALENDAR
VERSION:2.0
PRODID:-//ChamberMaster//Event Calendar 2.0//EN
METHOD:PUBLISH
X-PUBLISHED-TTL:P3D
REFRESH-INTERVAL:P3D
CALSCALE:GREGORIAN
BEGIN:VEVENT
DTSTART:20250311T150000Z
DTEND:20250311T223000Z
X-MICROSOFT-CDO-ALLDAYEVENT:FALSE
SUMMARY:Mental Health First Aid - In Person Adult Blended Course
DESCRIPTION:Mental Health First Aid is an interactive course that teaches people how to assist and support others who may be experiencing a mental health or substance use challenge. The curriculum includes a two-hour self-paced course\, & a 6.5 hour in person session led by MHFA instructors. You will receive communications about the self-paced course 2 weeks before the course start date.\n\nTo attend\, you must:\n\n  Complete a self-paced course prior to class.\n\n  Have a valid email address to receive materials and log in.\n\nRegistration closes on 2/25/25\, so sign up now!\n\nhttps://lp.constantcontactpages.com/ev/reg/xudc7sx/lp/2cbf2d0b-a69e-4a76-9388-cd37e5c25f31
X-ALT-DESC;FMTTYPE=text/html:&nbsp\;<span style="color:rgb(118\, 118\, 118)\; font-family:open sans\,sans-serif\; font-size:15px">Mental Health First Aid is an interactive course that teaches people how to assist and support others who may be experiencing a mental health or substance use challenge. The curriculum includes a two-hour self-paced course\, &amp\; a 6.5 hour in person session led by MHFA instructors. You will receive communications about the self-paced course 2 weeks before the course start date.</span><br />\n<span style="color:rgb(118\, 118\, 118)\; font-family:open sans\,sans-serif\; font-size:15px">To attend\, you must:</span><br />\n<span style="color:rgb(118\, 118\, 118)\; font-family:open sans\,sans-serif\; font-size:15px">&bull\; Complete a self-paced course prior to class.</span><br />\n<span style="color:rgb(118\, 118\, 118)\; font-family:open sans\,sans-serif\; font-size:15px">&bull\; Have a valid email address to receive materials and log in.</span><br />\n<span style="color:rgb(118\, 118\, 118)\; font-family:open sans\,sans-serif\; font-size:15px">Registration closes on 2/25/25\, so sign up now!</span><br />\n<a class="fui-Link ___1q1shib f2hkw1w f3rmtva f1ewtqcl fyind8e f1k6fduh f1w7gpdv fk6fouc fjoy568 figsok6 f1s184ao f1mk8lai fnbmjn9 f1o700av f13mvf36 f1cmlufx f9n3di6 f1ids18y f1tx3yz7 f1deo86v f1eh06m1 f1iescvh fhgqx19 f1olyrje f1p93eir f1nev41a f1h8hb77 f1lqvz6u f10aw75t fsle3fq f17ae5zn" href="https://lp.constantcontactpages.com/ev/reg/xudc7sx/lp/2cbf2d0b-a69e-4a76-9388-cd37e5c25f31" id="menurp3c" rel="noreferrer noopener" target="_blank" title="https://lp.constantcontactpages.com/ev/reg/xudc7sx/lp/2cbf2d0b-a69e-4a76-9388-cd37e5c25f31">https://lp.constantcontactpages.com/ev/reg/xudc7sx/lp/2cbf2d0b-a69e-4a76-9388-cd37e5c25f31</a><br />\n&nbsp\;
LOCATION:Jefferson Center for Mental Health 4851 Independence St\, 1st Floor - Clear Creek Conference Room\, Wheat Ridge\, CO 80033
UID:e.551.10999
SEQUENCE:3
DTSTAMP:20260425T224447Z
URL:https://business.goldenchamber.org/events/details/mental-health-first-aid-in-person-adult-blended-course-10999
END:VEVENT

END:VCALENDAR
