BEGIN:VCALENDAR
VERSION:2.0
PRODID:-//ChamberMaster//Event Calendar 2.0//EN
METHOD:PUBLISH
X-PUBLISHED-TTL:P3D
REFRESH-INTERVAL:P3D
CALSCALE:GREGORIAN
BEGIN:VEVENT
DTSTART:20250225T190000Z
DTEND:20250225T200000Z
X-MICROSOFT-CDO-ALLDAYEVENT:FALSE
SUMMARY:Lunch n Learn: Preparing to Step Away from Your Business
DESCRIPTION:Join us while Stephanie Johnson\, Financial Advisor with Edward Jones\, and Lauren Snow\, corporate attorney\, speak on financial planning\, growing your business and steps to consider in preparing both financially and emotionally to sell your business.\n\n\n\n---\n\nAbout our Speakers: \n\n\n\nStephanie Johnson supports business owners who are interested in removing themselves from their owner-operator role and transitioning to an owner role so they may either acquire a new business or change their lifestyle. She works with disciplined owners to identify their exit strategy goals and connect them with the right professionals to grow their business with an exit plan in mind. She holds the Certified Exit Planning Advisor \, Chartered Retirement Planning Counselor  and Chartered Retirement Plans Specialist  designations.\n\n \n\nStephanie is originally from St. Charles\, MO and is an alumna of the University of Missouri   Rolla. She moved to Denver in 2007 during her first career in petroleum engineering. In 2018\, she made a career shift from corporate finance and engineering to become a financial advisor with Edward Jones in Golden. She and her husband have a blended family of four children and one grandchild\, and they like to spend much of their time bird hunting with their gun dogs and traveling.\n\n\n\n***\n\n \nLauren Cammarata Snow is a business\, trademark\, and regulatory attorney with Goodspeed Merrill\, who\n\npassionately serves individuals and businesses through a wide range of services\, including general\n\nbusiness matters\, contract drafting and negotiation\, regulatory compliance\, and intellectual property\n\nprosecution\, licensing\, and enforcement.\n\n \n\nBorn and raised in the State of Colorado\, Lauren graduated summa cum laude at the Metropolitan State\n\nUniversity\, from where she holds a Bachelor of Science degree in Human Services-Mental Health\n\nCounseling with a Minor in Spanish. She obtained her Juris Doctorate from the University of Denver\,\n\nSturm College of Law. When she is not working\, she enjoys exploring the world with her husband and\n\ndaughter.
X-ALT-DESC;FMTTYPE=text/html:Join us while Stephanie Johnson\, Financial Advisor with Edward Jones\, and Lauren Snow\, corporate attorney\, speak on financial planning\, growing your business and steps to consider in preparing both financially and emotionally to sell your business.<br />\n<br />\n---<br />\n<u><strong>About our Speakers:&nbsp\;</strong></u><br />\n<br />\nStephanie Johnson supports business owners who are interested in removing themselves from their owner-operator role and transitioning to an owner role so they may either acquire a new business or change their lifestyle. She works with disciplined owners to identify their exit strategy goals and connect them with the right professionals to grow their business with an exit plan in mind. She holds the Certified Exit Planning Advisor&reg\;\, Chartered Retirement Planning Counselor&trade\; and Chartered Retirement Plans Specialist&trade\; designations.<br />\n&nbsp\;<br />\nStephanie is originally from St. Charles\, MO and is an alumna of the University of Missouri &ndash\; Rolla. She moved to Denver in 2007 during her first career in petroleum engineering. In 2018\, she made a career shift from corporate finance and engineering to become a financial advisor with Edward Jones in Golden. She and her husband have a blended family of four children and one grandchild\, and they like to spend much of their time bird hunting with their gun dogs and traveling.<br />\n<br />\n***<br />\n&nbsp\;\n<div><span style="font-size: 13px\;">Lauren Cammarata Snow is a business\, trademark\, and regulatory attorney with Goodspeed Merrill\, who</span></div>\n\n<div><span style="font-size: 13px\;">passionately serves individuals and businesses through a wide range of services\, including general</span></div>\n\n<div><span style="font-size: 13px\;">business matters\, contract drafting and negotiation\, regulatory compliance\, and intellectual property</span></div>\n\n<div><span style="font-size: 13px\;">prosecution\, licensing\, and enforcement.</span><br />\n&nbsp\;</div>\n\n<div><span style="font-size: 13px\;">Born and raised in the State of Colorado\, Lauren graduated summa cum laude at the Metropolitan State</span></div>\n\n<div><span style="font-size: 13px\;">University\, from where she holds a Bachelor of Science degree in Human Services-Mental Health</span></div>\n\n<div><span style="font-size: 13px\;">Counseling with a Minor in Spanish. She obtained her Juris Doctorate from the University of Denver\,</span></div>\n\n<div><span style="font-size: 13px\;">Sturm College of Law. When she is not working\, she enjoys exploring the world with her husband and</span></div>\n\n<div><span style="font-size: 13px\;">daughter.</span></div>\n
LOCATION:6th Ave West Tower 350 Indiana St\, 1st Floor Conference Room Golden\, CO 80401
UID:e.551.10518
SEQUENCE:3
DTSTAMP:20260425T224237Z
URL:https://business.goldenchamber.org/events/details/lunch-n-learn-preparing-to-step-away-from-your-business-10518
END:VEVENT

END:VCALENDAR
