BEGIN:VCALENDAR
VERSION:2.0
PRODID:-//ChamberMaster//Event Calendar 2.0//EN
METHOD:PUBLISH
X-PUBLISHED-TTL:P3D
REFRESH-INTERVAL:P3D
CALSCALE:GREGORIAN
BEGIN:VEVENT
DTSTART:20250916T180000Z
DTEND:20250916T190000Z
X-MICROSOFT-CDO-ALLDAYEVENT:FALSE
SUMMARY:Lunch & Learn: Small Business Programs at NREL
DESCRIPTION:Randy Fransua\, NREL's Small Business Program Manager\, will provide a brief history of NREL and guidance on how to do business with NREL. The presentation may also include information on parts of Golden being in a Historically Underutilized Business Zone (HUBZone). More information on NREL's Small Business Program can be found here: https://www.nrel.gov/workingwithus/small-business\n\n\n\nIndustries NREL works with:\n\n\n\nIndustrial Supplies Merchant Wholesalers\n\nOther Scientific and Technical Consulting Services\n\nAnalytical Laboratory Instrument Manufacturing\n\nOther Computer Related Services\n\nAll Other Professional\, Scientific\, and Technical Services\n\nOther Professional Equipment and Supplies Merchant Wholesalers\n\nResearch and Development in the Physical\, Engineering\, and Life Sciences (except Nanotechnology and Biotechnology)\n\nColleges\, Universities\, and Professional Schools\n\nTesting Laboratories and Services\n\nCustom Computer Programming Services
X-ALT-DESC;FMTTYPE=text/html:<span style="color: rgb(34\, 34\, 34)\; font-family: Arial\, Helvetica\, sans-serif\; font-size: small\;">Randy Fransua\, NREL&rsquo\;s Small Business Program Manager\, will provide a brief history of NREL and guidance on how to do business with NREL. The presentation may also include information on parts of Golden being in a Historically Underutilized Business Zone (HUBZone). More information on NREL&rsquo\;s Small Business Program can be found here:&nbsp\;</span><a data-saferedirecturl="https://www.google.com/url?q=https://www.nrel.gov/workingwithus/small-business&amp\;source=gmail&amp\;ust=1749578004736000&amp\;usg=AOvVaw0CFC20Gfr6dGHFZgrFRDKB" href="https://www.nrel.gov/workingwithus/small-business" style="color: rgb(17\, 85\, 204)\; font-family: Arial\, Helvetica\, sans-serif\; font-size: small\;" target="_blank">https://www.nrel.gov/<wbr />workingwithus/small-business</a><br />\n<br />\nIndustries NREL works with:<br />\n<br />\nIndustrial Supplies Merchant Wholesalers<br />\nOther Scientific and Technical Consulting Services<br />\nAnalytical Laboratory Instrument Manufacturing<br />\nOther Computer Related Services<br />\nAll Other Professional\, Scientific\, and Technical Services<br />\nOther Professional Equipment and Supplies Merchant Wholesalers<br />\nResearch and Development in the Physical\, Engineering\, and Life Sciences (except Nanotechnology and Biotechnology)<br />\nColleges\, Universities\, and Professional Schools<br />\nTesting Laboratories and Services<br />\nCustom Computer Programming Services<br />\n&nbsp\;
LOCATION:On Tap Credit Union Community Room 816 Washington Ave Golden\, CO 80401
UID:e.551.12333
SEQUENCE:3
DTSTAMP:20260423T023736Z
URL:https://business.goldenchamber.org/events/details/lunch-learn-small-business-programs-at-nrel-12333
END:VEVENT

END:VCALENDAR
