BEGIN:VCALENDAR
VERSION:2.0
PRODID:-//ChamberMaster//Event Calendar 2.0//EN
METHOD:PUBLISH
X-PUBLISHED-TTL:P3D
REFRESH-INTERVAL:P3D
CALSCALE:GREGORIAN
BEGIN:VEVENT
DTSTART:20250624T180000Z
DTEND:20250624T190000Z
X-MICROSOFT-CDO-ALLDAYEVENT:FALSE
SUMMARY:Lunch & Learn - Business Safety & Crime Prevention
DESCRIPTION:Join the Chamber and City of Golden Police Officer Nicco Fanelli-Poole for an information session about shoplifting\, break-ins\, and crime prevention at your business.  Also covered will be information about ways businesses can better prepare on the front end\, if they become victims of crime\, which can help law enforcement in recovering stolen property and identifying suspects. (ie. inventory /serial number tracking\, video cameras\, etc).\n\n\n\nJoin us with your questions as we head into another busy summer season! \n\n\n\nPlease feel free to bring in your own lunch.
X-ALT-DESC;FMTTYPE=text/html:<span style="font-size:18px\;"><span style="font-family:arial\;">Join the Chamber and City of Golden Police Officer Nicco Fanelli-Poole for an&nbsp\;information session about shoplifting\, break-ins\, and crime prevention at your business.&nbsp\; Also covered will be information about ways businesses can better prepare on the front end\, if they become victims of crime\, which&nbsp\;can help law enforcement in recovering stolen property and identifying suspects. (ie. inventory /serial number tracking\, video cameras\,&nbsp\;etc).<br />\n<br />\nJoin us with your questions as we head into another busy summer season!&nbsp\;<br />\n<br />\nPlease feel free to bring in your own lunch.&nbsp\;&nbsp\;</span></span>
LOCATION:On Tap Credit Union Community Room 816 Washington Ave Golden\, CO 80401
UID:e.551.12278
SEQUENCE:3
DTSTAMP:20260423T072203Z
URL:https://business.goldenchamber.org/events/details/lunch-learn-business-safety-crime-prevention-12278
END:VEVENT

END:VCALENDAR
