BEGIN:VCALENDAR
VERSION:2.0
PRODID:-//ChamberMaster//Event Calendar 2.0//EN
METHOD:PUBLISH
X-PUBLISHED-TTL:P3D
REFRESH-INTERVAL:P3D
CALSCALE:GREGORIAN
BEGIN:VEVENT
DTSTART;VALUE=DATE:20251023
DTEND;VALUE=DATE:20251024
TRANSP:TRANSPARENT
X-MICROSOFT-CDO-ALLDAYEVENT:TRUE
SUMMARY:Little Ones & Birth Providers Night
DESCRIPTION:Join Impact Chiropractic in Golden for a night where birth spaces and kids' providers come together\, share resources\, build connections\, and grow our family care network.
X-ALT-DESC;FMTTYPE=text/html:<span style="color:#000000">Join Impact Chiropractic in Golden for a night where birth spaces and kids&rsquo\; providers come together\, share resources\, build connections\, and grow our family care network.</span>
LOCATION:17211 S Golden Rd Ste 100\, Golden\, CO 80401
UID:e.551.12600
SEQUENCE:3
DTSTAMP:20260422T215108Z
URL:https://business.goldenchamber.org/events/details/little-ones-birth-providers-night-12600
END:VEVENT

END:VCALENDAR
