BEGIN:VCALENDAR
VERSION:2.0
PRODID:-//ChamberMaster//Event Calendar 2.0//EN
METHOD:PUBLISH
X-PUBLISHED-TTL:P3D
REFRESH-INTERVAL:P3D
CALSCALE:GREGORIAN
BEGIN:VEVENT
DTSTART:20090708T133000Z
DTEND:20090708T150000Z
X-MICROSOFT-CDO-ALLDAYEVENT:FALSE
SUMMARY:How to Create an Effective Marketing Plan
DESCRIPTION:Wednesday Morning Motivational Moments for Business Owners presented by \nMake-It-FlyÂ® NW Denver & Foothills--Paul Soucek\, of PinPoint Mailings speaking on ?Creating an Effective Marketing Plan?.   Support Perkins Restaurant by purchasing coffee and or breakfast before coming into the meeting.
X-ALT-DESC;FMTTYPE=text/html:Wednesday Morning Motivational Moments for Business Owners presented by \nMake-It-FlyÂ® NW Denver & Foothills--Paul Soucek\, of PinPoint Mailings speaking on ?Creating an Effective Marketing Plan?.   Support Perkins Restaurant by purchasing coffee and or breakfast before coming into the meeting.\n
LOCATION:Perkins Restaurant\, 1459 Simms Street\, Golden
UID:e.551.936
SEQUENCE:3
DTSTAMP:20260423T170830Z
URL:https://business.goldenchamber.org/events/details/how-to-create-an-effective-marketing-plan-07-08-2009-936
END:VEVENT

END:VCALENDAR
