BEGIN:VCALENDAR
VERSION:2.0
PRODID:-//ChamberMaster//Event Calendar 2.0//EN
METHOD:PUBLISH
X-PUBLISHED-TTL:P3D
REFRESH-INTERVAL:P3D
CALSCALE:GREGORIAN
BEGIN:VEVENT
DTSTART;VALUE=DATE:20240214
DTEND;VALUE=DATE:20240215
TRANSP:TRANSPARENT
X-MICROSOFT-CDO-ALLDAYEVENT:TRUE
SUMMARY:Holidaily Brewing Sour Ale Release!
DESCRIPTION:First They're Sweet\, Then They're Sour Ale\n\nThe perfect beer release on Valentine's Day doesn't exi....\n\nHolidaily heard the requests for a sour!\n\nTake your sweetie to either of their two Colorado Taprooms (Denver Tech Center & Golden) on Valentine's Day (2/14) for the release of their 'First They're Sweet\, Then They're Sour Ale release!
X-ALT-DESC;FMTTYPE=text/html:First They&#39\;re Sweet\, Then They&#39\;re Sour Ale<br />\nThe perfect beer release on Valentine&#39\;s Day doesn&#39\;t exi....<br />\nHolidaily heard the requests for a sour!<br />\nTake your sweetie to either of their two Colorado Taprooms (Denver Tech Center &amp\; Golden) on Valentine&#39\;s Day (2/14) for the release of their &#39\;First They&#39\;re Sweet\, Then They&#39\;re Sour Ale release!
LOCATION:Holidaily Brewing Company 801 Brickyard Circle Unit B Golden\, CO 80403
UID:e.551.9600
SEQUENCE:3
DTSTAMP:20260425T181508Z
URL:https://business.goldenchamber.org/events/details/holidaily-brewing-sour-ale-release-9600
END:VEVENT

END:VCALENDAR
