BEGIN:VCALENDAR
VERSION:2.0
PRODID:-//ChamberMaster//Event Calendar 2.0//EN
METHOD:PUBLISH
X-PUBLISHED-TTL:P3D
REFRESH-INTERVAL:P3D
CALSCALE:GREGORIAN
BEGIN:VEVENT
DTSTART:20250208T160000Z
DTEND:20250208T220000Z
X-MICROSOFT-CDO-ALLDAYEVENT:FALSE
SUMMARY:Goldens in Golden at The Golden Hotel
DESCRIPTION:Our favorite day of the year!!! We will have food & drink available for purchase in our beautiful Creekside Courtyard including breakfast burritos\, hot dogs straight off the grill\, and our award-winning pork green chili! We will also have a special photo-op area with for you to take pics with your pup! Prefer to be inside? We've got you covered! You can "Dine with Your Dog" in our Clear Creek Ballroom. Walk-ins are welcome!
X-ALT-DESC;FMTTYPE=text/html:Our favorite day of the year!!! We will have food &amp\; drink available for purchase in our beautiful Creekside Courtyard including breakfast burritos\, hot dogs straight off the grill\, and our award-winning pork green chili! We will also have a special photo-op area with for you to take pics with your pup! Prefer to be inside? We&#39\;ve got you covered! You can &quot\;Dine with Your Dog&quot\; in our Clear Creek Ballroom. Walk-ins are welcome!
LOCATION:800 11th St.
UID:e.551.10975
SEQUENCE:3
DTSTAMP:20260425T225005Z
URL:https://business.goldenchamber.org/events/details/goldens-in-golden-at-the-golden-hotel-10975
END:VEVENT

END:VCALENDAR
