BEGIN:VCALENDAR
VERSION:2.0
PRODID:-//ChamberMaster//Event Calendar 2.0//EN
METHOD:PUBLISH
X-PUBLISHED-TTL:P3D
REFRESH-INTERVAL:P3D
CALSCALE:GREGORIAN
BEGIN:VEVENT
DTSTART:20220616T133000Z
DTEND:20220616T143000Z
X-MICROSOFT-CDO-ALLDAYEVENT:FALSE
SUMMARY:Golden Young Professionals Monthly Meeting
DESCRIPTION:The Golden Young Professionals (GYP) are dedicated to enhancing the vitality of the Golden community while empowering young professionals under 40 to thrive as leaders.  \n\n\n\nJoin us at our next monthly meeting!  We focus on making connections\, sharing business news and planning fun outings.  Discussions often center on a roundtable topic or involve a guest speaker. \n\n\n\nLearn more about getting involved with Golden Young Professionals on our website: \n\n\n\nhttps://goldenchamber.org/young-professionals/
X-ALT-DESC;FMTTYPE=text/html:<span style="font-size:20px\;"><span style="text-align: center\;">The Golden Young Professionals (GYP) are dedicated to enhancing the vitality of the Golden community while empowering young professionals under 40 to thrive as leaders.&nbsp\;&nbsp\;</span><br />\n<br />\nJoin us at our next monthly meeting!&nbsp\; We focus on making connections\, sharing business news and planning fun outings.&nbsp\; Discussions often center on a roundtable topic or involve a guest speaker.&nbsp\;<br />\n<br />\nLearn more about getting involved with Golden Young Professionals on our website:&nbsp\;<br />\n<br />\n<a href="https://goldenchamber.org/young-professionals/">https://goldenchamber.org/young-professionals/</a></span>
LOCATION:Golden Welcome Center 1010 Washington Avenue\, Golden CO We meet in the upstairs conference room
UID:e.551.6646
SEQUENCE:3
DTSTAMP:20260421T091722Z
URL:https://business.goldenchamber.org/events/details/golden-young-professionals-monthly-meeting-06-16-2022-6646
END:VEVENT

END:VCALENDAR
