BEGIN:VCALENDAR
VERSION:2.0
PRODID:-//ChamberMaster//Event Calendar 2.0//EN
METHOD:PUBLISH
X-PUBLISHED-TTL:P3D
REFRESH-INTERVAL:P3D
CALSCALE:GREGORIAN
BEGIN:VEVENT
DTSTART:20250220T220000Z
DTEND:20250221T000000Z
X-MICROSOFT-CDO-ALLDAYEVENT:FALSE
SUMMARY:Golden Lodge Assisted Living and Memory Care Re-Launch
DESCRIPTION:We welcome all to come join us at Golden Lodge Assisted Living and Memory Care for our re-launch of management and sample some of our newest menu flavors!
X-ALT-DESC;FMTTYPE=text/html:We welcome all to come join us at Golden Lodge Assisted Living and Memory Care for our re-launch of management and sample some of our newest menu flavors!&nbsp\;
LOCATION:1111 Newstar Way Golden 80403
UID:e.551.11264
SEQUENCE:3
DTSTAMP:20260425T224330Z
URL:https://business.goldenchamber.org/events/details/golden-lodge-assisted-living-and-memory-care-re-launch-11264
END:VEVENT

END:VCALENDAR
