BEGIN:VCALENDAR
VERSION:2.0
PRODID:-//ChamberMaster//Event Calendar 2.0//EN
METHOD:PUBLISH
X-PUBLISHED-TTL:P3D
REFRESH-INTERVAL:P3D
CALSCALE:GREGORIAN
BEGIN:VEVENT
DTSTART:20240217T210000Z
DTEND:20240218T000000Z
X-MICROSOFT-CDO-ALLDAYEVENT:FALSE
SUMMARY:Golden Fashion Week :: Trunk Show & Sample Sale
DESCRIPTION:Feb 12-17th: Golden Fashion week A collaboration of Golden Small businesses offering special discounts\, events and more! Feb 17th:: Trunk Show & Sample Sale Shop local businesses in one convenient location! Get early access and a sneak peek at upcoming spring product launches! Enjoy a fashion show collaboration of Alyth Active & Truly Bohotique!
X-ALT-DESC;FMTTYPE=text/html:Feb 12-17th: Golden Fashion week A collaboration of Golden Small businesses offering special discounts\, events and more! Feb 17th:: Trunk Show &amp\; Sample Sale Shop local businesses in one convenient location! Get early access and a sneak peek at upcoming spring product launches! Enjoy a fashion show collaboration of Alyth Active &amp\; Truly Bohotique!
LOCATION:Table Mountain Inn
UID:e.551.9519
SEQUENCE:3
DTSTAMP:20260425T213405Z
URL:https://business.goldenchamber.org/events/details/golden-fashion-week-trunk-show-sample-sale-9519
END:VEVENT

END:VCALENDAR
