BEGIN:VCALENDAR
VERSION:2.0
PRODID:-//ChamberMaster//Event Calendar 2.0//EN
METHOD:PUBLISH
X-PUBLISHED-TTL:P3D
REFRESH-INTERVAL:P3D
CALSCALE:GREGORIAN
BEGIN:VEVENT
DTSTART:20250607T140000Z
DTEND:20250607T190000Z
X-MICROSOFT-CDO-ALLDAYEVENT:FALSE
SUMMARY:Golden Farmers Market 2025
DESCRIPTION:Now in its 23rd season\, the Golden Farmers Market is a long-standing tradition in the Golden community. The market\, presented by the Golden Chamber of Commerce\, continues to connect the community to fresh food from local farmers and food producers\, artisans\, and other local businesses and organizations\, all while creating a vibrant community gathering place.\n\n\n\nJoin us each week to shop from over 70 vendors\, enjoy live entertainment and enjoy downtown Golden.\n\n\n\nFor detailed information about the Golden Farmers Market\, visit our website at:\n\nwww.goldenfarmersmarket.org
X-ALT-DESC;FMTTYPE=text/html:<p class="pad-top" style="margin:0in\;margin-bottom:.0001pt\;vertical-align:baseline"><span style="font-size:10.5pt\;font-family:&quot\;Arial&quot\;\,&quot\;sans-serif&quot\;\;color:#666666">Now in its 23rd&nbsp\;season\, the Golden Farmers Market&nbsp\;is a long-standing tradition in the Golden community.&nbsp\;The market\, presented by the Golden Chamber of Commerce\, continues to connect the community to fresh food from local farmers and food producers\, artisans\, and other local businesses and organizations\, all&nbsp\;while creating a vibrant community gathering place.<br />\n<br />\nJoin us each week to shop from over 70 vendors\, enjoy live entertainment and enjoy downtown Golden.<br />\n<br />\nFor detailed information about the Golden Farmers Market\, visit our website at:<br />\n<a href="http://goldenfarmersmarket.org">www.goldenfarmersmarket.org</a><br />\n<o:p></o:p></span></p>\n
LOCATION:The Golden Farmers Market takes place in the parking lot adjacent to the tennis courts - at 10th & Illinois Streets - between the Golden Library and Clear Creek.
UID:e.551.11627
SEQUENCE:3
DTSTAMP:20260426T021738Z
URL:https://business.goldenchamber.org/events/details/golden-farmers-market-2025-06-07-2025-11627
END:VEVENT

END:VCALENDAR
