BEGIN:VCALENDAR
VERSION:2.0
PRODID:-//ChamberMaster//Event Calendar 2.0//EN
METHOD:PUBLISH
X-PUBLISHED-TTL:P3D
REFRESH-INTERVAL:P3D
CALSCALE:GREGORIAN
BEGIN:VEVENT
DTSTART:20220604T140000Z
DTEND:20220604T190000Z
X-MICROSOFT-CDO-ALLDAYEVENT:FALSE
SUMMARY:Golden Farmers Market 2022
DESCRIPTION:Now in its 20th season\, the Golden Farmers Market is a long-standing tradition in the Golden community.  The Market continues to connect the community to fresh food from local farmers and food producers\, and other local businesses and organizations\, all while creating a vibrant community gathering place.
X-ALT-DESC;FMTTYPE=text/html:<p class="pad-top" style="box-sizing: border-box\; margin: 0px\; padding: 0px 0px 1em\; border: 0px\; outline: 0px\; font-size: 14px\; text-size-adjust: 100%\; vertical-align: baseline\; background-image: initial\; background-position: initial\; background-size: initial\; background-repeat: initial\; background-attachment: initial\; background-origin: initial\; background-clip: initial\; color: rgb(102\, 102\, 102)\; font-family: &quot\;Open Sans&quot\;\, Arial\, sans-serif\;">Now in its 20th season\, the Golden Farmers Market <span style="color: rgb(102\, 102\, 102)\; font-family: &quot\;Open Sans&quot\;\, Arial\, sans-serif\; font-size: 14px\;">is a long-standing tradition in the Golden community.&nbsp\; The Market&nbsp\;</span>continues to connect the community to fresh food from local farmers and food producers\, and other local businesses and organizations\, all&nbsp\;while creating a vibrant community gathering place.</p>\n\n<p class="pad-top" style="box-sizing: border-box\; margin: 0px\; padding: 0px 0px 1em\; border: 0px\; outline: 0px\; font-size: 14px\; text-size-adjust: 100%\; vertical-align: baseline\; background-image: initial\; background-position: initial\; background-size: initial\; background-repeat: initial\; background-attachment: initial\; background-origin: initial\; background-clip: initial\; color: rgb(102\, 102\, 102)\; font-family: &quot\;Open Sans&quot\;\, Arial\, sans-serif\;">&nbsp\;</p>\n
LOCATION:The Golden Farmers Market takes place in the West Parking Lot of the Golden Public Library - located at 1019 - 10th Street.
UID:e.551.8628
SEQUENCE:3
DTSTAMP:20260421T091641Z
URL:https://business.goldenchamber.org/events/details/golden-farmers-market-2022-8628
END:VEVENT

END:VCALENDAR
