BEGIN:VCALENDAR
VERSION:2.0
PRODID:-//ChamberMaster//Event Calendar 2.0//EN
METHOD:PUBLISH
X-PUBLISHED-TTL:P3D
REFRESH-INTERVAL:P3D
CALSCALE:GREGORIAN
BEGIN:VEVENT
DTSTART:20210107T143000Z
DTEND:20210107T153000Z
X-MICROSOFT-CDO-ALLDAYEVENT:FALSE
SUMMARY:Golden Chamber Ambassadors Meeting
DESCRIPTION:Our Chamber Ambassadors are members that want to give their time to help the Chamber\, and who also want to build more connections in return! \n\n\n\nOur Ambassadors help with networking events\, engaging new members\, attend Ribbon Cuttings and Grand Openings\, and more! \n\n\n\nJoin us at an upcoming meeting to learn more! Or email our 2021 Ambassador Chair\, Leah Denzel\, leah@rmben.com\, if you have questions on becoming an Ambassador. \n\n\n\nFor January's meeting: \n\n\n\nThis month our meeting will continue in a virtual Zoom format. Please use the link below to register and receive the Zoom link: \n\n\n\n\n\nWhen: Jan 7\, 2021 07:30 AM Mountain Time (US and Canada) \n\n\n\nRegister in advance for this meeting:\n\nhttps://us02web.zoom.us/meeting/register/tZMrdeGuqzMqHtHgBHSvpRFIBeHU379mOg8i \n\n\n\nAfter registering\, you will receive a confirmation email containing information about joining the meeting.
X-ALT-DESC;FMTTYPE=text/html:Our Chamber Ambassadors are members that want to give their time to help the Chamber\, and who also want to build more connections in return!&nbsp\;<br />\n<br />\nOur Ambassadors help with networking events\, engaging new members\, attend Ribbon Cuttings and Grand Openings\, and more!&nbsp\;<br />\n<br />\nJoin us at an upcoming meeting to learn more! Or email our 2021 Ambassador Chair\, Leah Denzel\,&nbsp\;leah@rmben.com\, if you have questions on becoming an Ambassador.&nbsp\;<br />\n<br />\n<strong><em>For January&#39\;s meeting:&nbsp\;</em></strong><br />\n<br />\nThis month our meeting will continue in a virtual Zoom format. Please use the link below to register and receive the Zoom link:&nbsp\;<br />\n<br />\n<br />\nWhen: Jan 7\, 2021 07:30 AM Mountain Time (US and Canada)&nbsp\;<br />\n<br />\nRegister in advance for this meeting:<br />\nhttps://us02web.zoom.us/meeting/register/tZMrdeGuqzMqHtHgBHSvpRFIBeHU379mOg8i&nbsp\;<br />\n<br />\nAfter registering\, you will receive a confirmation email containing information about joining the meeting.
LOCATION:The meeting will take place on Zoom at this time: https://us02web.zoom.us/meeting/register/tZMrdeGuqzMqHtHgBHSvpRFIBeHU379mOg8i
UID:e.551.5067
SEQUENCE:3
DTSTAMP:20260421T175702Z
URL:https://business.goldenchamber.org/events/details/golden-chamber-ambassadors-meeting-01-07-2021-5067
END:VEVENT

END:VCALENDAR
