BEGIN:VCALENDAR
VERSION:2.0
PRODID:-//ChamberMaster//Event Calendar 2.0//EN
METHOD:PUBLISH
X-PUBLISHED-TTL:P3D
REFRESH-INTERVAL:P3D
CALSCALE:GREGORIAN
BEGIN:VEVENT
DTSTART:20260808T150000Z
DTEND:20260808T160000Z
X-MICROSOFT-CDO-ALLDAYEVENT:FALSE
SUMMARY:FREE Saturday Group Class
DESCRIPTION:Join us for a Complimentary Saturday Class!\n\nEvery Saturday we open our facility to the community to see what we are all about. Reserve a spot and get ready for a great training session!
X-ALT-DESC;FMTTYPE=text/html:<h2>Join us for a Complimentary Saturday Class!</h2>\n\n<div>Every Saturday we open our facility to the community to see what we are all about. Reserve a spot and get ready for a great training session!</div>\n
LOCATION:150 Capital Dr. #230 Golden\, CO 80401
UID:e.551.15109
SEQUENCE:3
DTSTAMP:20260423T105528Z
URL:https://business.goldenchamber.org/events/details/free-saturday-group-class-08-08-2026-15109
END:VEVENT

END:VCALENDAR
