BEGIN:VCALENDAR
VERSION:2.0
PRODID:-//ChamberMaster//Event Calendar 2.0//EN
METHOD:PUBLISH
X-PUBLISHED-TTL:P3D
REFRESH-INTERVAL:P3D
CALSCALE:GREGORIAN
BEGIN:VEVENT
DTSTART:20240518T160000Z
DTEND:20240518T173000Z
X-MICROSOFT-CDO-ALLDAYEVENT:FALSE
SUMMARY:Foothills Art Center Creative Campus Ribbon Cutting
DESCRIPTION:Join us for the Public Opening of the Creative Campus with the Foothills Art Center and discover the newly renovated space.\n\n\n\nThere is an open house from 10am-5pm with a Ribbon Cutting Ceremony by the Chamber at 10am.\n\n\n\nAs a hub for vibrant art classes\, studio artists\, and diverse educational programs\, the Creative Campus invites you to explore its offerings. During the Public Opening\, you'll have the opportunity to mingle with the Creative Campus Studio Artists\, purchase art from Open Studio artists\, and explore our new ceramics studio.
X-ALT-DESC;FMTTYPE=text/html:<span style="color: rgb(37\, 53\, 61)\; font-family: Poppins\, sans-serif\; font-size: 16px\;">Join us for the Public Opening of the Creative Campus with the Foothills Art Center and discover the newly renovated space.<br />\n<br />\nThere is an open house from 10am-5pm with a Ribbon Cutting Ceremony by the Chamber at 10am.<br />\n<br />\nAs a hub for vibrant art classes\, studio artists\, and diverse educational programs\, the Creative Campus invites you to explore its offerings. During the Public Opening\, you&rsquo\;ll have the opportunity to mingle with the Creative Campus Studio Artists\, purchase art from Open Studio artists\, and explore our new ceramics studio.</span>
LOCATION:Foothills Art Center Creative Campus 809 Fifteenth Street Golden\, CO 80401 United States
UID:e.551.9673
SEQUENCE:3
DTSTAMP:20260421T041532Z
URL:https://business.goldenchamber.org/events/details/foothills-art-center-creative-campus-ribbon-cutting-9673
END:VEVENT

END:VCALENDAR
