BEGIN:VCALENDAR
VERSION:2.0
PRODID:-//ChamberMaster//Event Calendar 2.0//EN
METHOD:PUBLISH
X-PUBLISHED-TTL:P3D
REFRESH-INTERVAL:P3D
CALSCALE:GREGORIAN
BEGIN:VEVENT
DTSTART:20260206T020000Z
DTEND:20260206T033000Z
X-MICROSOFT-CDO-ALLDAYEVENT:FALSE
SUMMARY:Denver Giving Group Q1 2026 Meeting
DESCRIPTION:Join us at Connects Workspace Red Rocks (18475 W Colfax Ave Suite 132\, Golden\, CO 80401 to make an impact\, connect with old friends\, and meet new people. We start at 7pm sharp but come early and grab a drink and some food at the food truck. Rolling Dough food truck will be onsite.\n\nHow it works:\n\n\n	\n	MEET: We meet every 3 months (Quarterly)\n	\n	\n	LISTEN: Representatives of 3 different charities give a brief (around 10 minute) pitch about their charity\, followed by brief Q&A.\n	\n	\n	VOTE: Members vote on which cause to support.\n	\n	\n	MAKE AN IMPACT: The non-profit that receives the most votes will be awarded total of all donations $100 from each member.\n	\n\n\nJoin Us!\n\nDenver Giving Group Homepage
X-ALT-DESC;FMTTYPE=text/html:<p>Join us at <a href="https://share.google/1wOL1ux4lchky1OwZ" style="background-image: unset\; background-position: unset\; background-size: unset\; background-repeat: unset\; background-attachment: initial\; background-origin: initial\; background-clip: initial\; background-color: initial\; cursor: pointer\; color: rgb(20\, 112\, 175)\; text-decoration-thickness: 1px\; white-space: initial\; text-underline-offset: 0.2em\; text-decoration-skip-ink: auto\; overflow-wrap: break-word\;" target="_blank">Connects Workspace Red Rocks</a> (18475 W Colfax Ave Suite 132\, Golden\, CO 80401 to make an impact\, connect with old friends\, and meet new people. We start at 7pm sharp but come early and grab a drink and some food at the food truck. <a href="https://gotruckster.com/food-truck/rolling-dough" style="background-image: unset\; background-position: unset\; background-size: unset\; background-repeat: unset\; background-attachment: initial\; background-origin: initial\; background-clip: initial\; background-color: initial\; cursor: pointer\; color: rgb(20\, 112\, 175)\; text-decoration-thickness: 1px\; white-space: initial\; text-underline-offset: 0.2em\; text-decoration-skip-ink: auto\; overflow-wrap: break-word\;" target="_blank">Rolling Dough food truck</a> will be onsite.</p>\n\n<p>How it works:</p>\n\n<ol>\n	<li>\n	<p><strong>MEET</strong>: We meet every 3 months (Quarterly)</p>\n	</li>\n	<li>\n	<p><strong>LISTEN</strong>: Representatives of 3 different charities give a brief (around 10 minute) pitch about their charity\, followed by brief Q&amp\;A.</p>\n	</li>\n	<li>\n	<p><strong>VOTE</strong>: Members vote on which cause to support.</p>\n	</li>\n	<li>\n	<p><strong>MAKE AN IMPACT</strong>: The non-profit that receives the most votes will be awarded total of all donations&mdash\;$100 from each member.</p>\n	</li>\n</ol>\n\n<p><a href="https://www.denvergivinggroup.org/join-us" style="background-image: unset\; background-position: unset\; background-size: unset\; background-repeat: unset\; background-attachment: initial\; background-origin: initial\; background-clip: initial\; background-color: initial\; cursor: pointer\; color: rgb(20\, 112\, 175)\; text-decoration-thickness: 1px\; white-space: initial\; text-underline-offset: 0.2em\; text-decoration-skip-ink: auto\; overflow-wrap: break-word\;" target="_blank">Join Us!</a></p>\n\n<p><a href="https://www.denvergivinggroup.org/home" style="background-image: unset\; background-position: unset\; background-size: unset\; background-repeat: unset\; background-attachment: initial\; background-origin: initial\; background-clip: initial\; background-color: initial\; cursor: pointer\; color: rgb(20\, 112\, 175)\; text-decoration-thickness: 1px\; white-space: initial\; text-underline-offset: 0.2em\; text-decoration-skip-ink: auto\; overflow-wrap: break-word\;">Denver Giving Group Homepage</a></p>\n
LOCATION:Connects Workspace Red Rocks (18475 W Colfax Ave Suite 132\, Golden\, CO 80401)
UID:e.551.13590
SEQUENCE:3
DTSTAMP:20260421T102006Z
URL:https://business.goldenchamber.org/events/details/denver-giving-group-q1-2026-13590
END:VEVENT

END:VCALENDAR
