BEGIN:VCALENDAR
VERSION:2.0
PRODID:-//ChamberMaster//Event Calendar 2.0//EN
METHOD:PUBLISH
X-PUBLISHED-TTL:P3D
REFRESH-INTERVAL:P3D
CALSCALE:GREGORIAN
BEGIN:VEVENT
DTSTART:20250302T020000Z
DTEND:20250302T050000Z
X-MICROSOFT-CDO-ALLDAYEVENT:FALSE
SUMMARY:Denver Banff Mountain Film Festival World Tour '25
DESCRIPTION:Take in the worlds stunning natural beauty and join Colorado Mountain Club when Banff Centre Mountain Film Festival World Tour brings the spirit of outdoor adventure to Denver\, CO\, at the National Western Stockyards Event Center.
X-ALT-DESC;FMTTYPE=text/html:<span style="color:rgb(57\, 54\, 79)\; font-family:neue plak\,-apple-system\,blinkmacsystemfont\,roboto\,helvetica neue\,helvetica\,tahoma\,arial\,sans-serif\; font-size:18px">Take in the worlds stunning natural beauty and join Colorado Mountain Club when Banff Centre Mountain Film Festival World Tour brings the spirit of outdoor adventure to Denver\, CO\, at the National Western Stockyards Event Center.</span>
LOCATION:5004 National Western Drive Denver\, CO 80216
UID:e.551.11307
SEQUENCE:3
DTSTAMP:20260426T010017Z
URL:https://business.goldenchamber.org/events/details/denver-banff-mountain-film-festival-world-tour-25-03-01-2025-11307
END:VEVENT

END:VCALENDAR
