BEGIN:VCALENDAR
VERSION:2.0
PRODID:-//ChamberMaster//Event Calendar 2.0//EN
METHOD:PUBLISH
X-PUBLISHED-TTL:P3D
REFRESH-INTERVAL:P3D
CALSCALE:GREGORIAN
BEGIN:VEVENT
DTSTART;VALUE=DATE:20090912
DTEND;VALUE=DATE:20090928
TRANSP:TRANSPARENT
X-MICROSOFT-CDO-ALLDAYEVENT:TRUE
SUMMARY:Day Out With Thomas 2009
DESCRIPTION:Thomas the Tank engine is going to be at the Colorado Railroad Museum in September with Rocky Mountain PBS and Colorado Parent. There'll be Thomas and Friends story telling\, live music\, building with LEGO and DUPLO bricks\, and much more. And of course\, you'll want to meet Sir Topham Hat. It's a whole day of family fun\, including a train ride with Thomas the Tank Engine. Tickets are $18.00 per person and available on-line at Ticketweb.com\, or onsite at Colorado Railroad Museum. Thomas the Tank Engine\, making tracks to great destinations. Order tickets today at Ticketweb.com!
X-ALT-DESC;FMTTYPE=text/html:Thomas the Tank engine is going to be at the Colorado Railroad Museum in September with Rocky Mountain PBS and Colorado Parent. There'll be Thomas and Friends story telling\, live music\, building with LEGO and DUPLO bricks\, and much more. And of course\, you'll want to meet Sir Topham Hat. It's a whole day of family fun\, including a train ride with Thomas the Tank Engine. Tickets are $18.00 per person and available on-line at Ticketweb.com\, or onsite at Colorado Railroad Museum. Thomas the Tank Engine\, making tracks to great destinations. Order tickets today at Ticketweb.com!
LOCATION:Colorado Railroad Museum 17155 W. 44th Avenue Golden\, CO 80044
UID:e.551.962
SEQUENCE:3
DTSTAMP:20260419T215401Z
URL:https://business.goldenchamber.org/events/details/day-out-with-thomas-2009-09-12-2009-962
END:VEVENT

END:VCALENDAR
