BEGIN:VCALENDAR
VERSION:2.0
PRODID:-//ChamberMaster//Event Calendar 2.0//EN
METHOD:PUBLISH
X-PUBLISHED-TTL:P3D
REFRESH-INTERVAL:P3D
CALSCALE:GREGORIAN
BEGIN:VEVENT
DTSTART:20241002T160000Z
DTEND:20241002T190000Z
X-MICROSOFT-CDO-ALLDAYEVENT:FALSE
SUMMARY:Coffee with a Cop
DESCRIPTION:Golden police officers invite you for coffee and conversation at Bean Fosters on Golden Ridge
X-ALT-DESC;FMTTYPE=text/html:Golden police officers invite you for coffee and conversation at Bean Fosters on Golden Ridge
LOCATION:
UID:e.551.10108
SEQUENCE:3
DTSTAMP:20260420T223359Z
URL:https://business.goldenchamber.org/events/details/coffee-with-a-cop-10108
END:VEVENT

END:VCALENDAR
