BEGIN:VCALENDAR
VERSION:2.0
PRODID:-//ChamberMaster//Event Calendar 2.0//EN
METHOD:PUBLISH
X-PUBLISHED-TTL:P3D
REFRESH-INTERVAL:P3D
CALSCALE:GREGORIAN
BEGIN:VEVENT
DTSTART:20210210T190000Z
DTEND:20210210T200000Z
X-MICROSOFT-CDO-ALLDAYEVENT:FALSE
SUMMARY:Brown Bag Lunch & Learn - Moving Forward in 2021 with Hope and Resilience
DESCRIPTION:Join us via Zoom or in person for this Lunch & Learn event!\n\nA speaker from Jefferson Center for Mental Health with be presenting:\n\n"Moving Forward in 2021 with Hope and Resilience"\n\n\n\nThis topic will address creating goals\, healthy ways to cope with stress\, supporting others mental health\, and discussing community resources. \n\n\n\nStay motivated with the goals that you set for yourself this year by checking in with them at the end of the first month in this Lunch & Learn event!\n\n\nTo attend via Zoom\, please pre-register via Zoom and the link will be sent to you: \n\n\n\nUse this link to register to attend via Zoom from your home or office:\n\nhttps://us02web.zoom.us/meeting/register/tZ0kceGhpjsoGdaOSSJoLlh3cGVCInrIln10 \n\n\n\nAfter registering\, you will receive a confirmation email containing information about joining the meeting.\n\n\nTo attend in person and watch via Zoom with others (maximum of 10). \n\nTo register to attend in person\, use the "Register Now" button on this page (not the Zoom link registration above). In person will be at the Golden Visitors Center. You will receive further details after registration.
X-ALT-DESC;FMTTYPE=text/html:Join us<strong> <span style="color:#800080\;">via Zoom or in person </span></strong>for this Lunch &amp\; Learn event!<br />\nA speaker from Jefferson Center for Mental Health with be presenting:<br />\n<span style="color: rgb(0\, 0\, 0)\; font-family: Tahoma\; font-size: 13.3333px\;"><strong>&quot\;Moving Forward in 2021 with Hope and Resilience&quot\;</strong><br />\n<br />\nThis topic will address creating goals\, healthy ways to cope with stress\, supporting others mental health\, and discussing community resources.&nbsp\;</span><br />\n<br />\nStay motivated with the goals that you set for yourself this year by checking in with them at the end of the first month in this Lunch &amp\; Learn event!\n<hr /><br />\n<strong><span style="color:#4B0082\;"><u><span style="background-color:#DDA0DD\;">To attend via Zoom\, please pre-register via Zoom and the link will be sent to you:&nbsp\;</span></u></span></strong><br />\n<br />\nUse this link to register to attend via Zoom from your home or office:<br />\n<a href="https://us02web.zoom.us/meeting/register/tZ0kceGhpjsoGdaOSSJoLlh3cGVCInrIln10">https://us02web.zoom.us/meeting/register/tZ0kceGhpjsoGdaOSSJoLlh3cGVCInrIln10&nbsp\;</a><br />\n<br />\nAfter registering\, you will receive a confirmation email containing information about joining the meeting.\n<hr /><br />\n<strong><span style="color:#008000\;"><u><span style="background-color:#33ff99\;">To attend in person and watch via Zoom with others (maximum of 10).&nbsp\;</span></u></span></strong><br />\nTo register to attend in person\, use the &quot\;Register Now&quot\; button on this page (<em><strong>not</strong></em> the Zoom link registration above). In person will be at the Golden Visitors Center. You will receive further details after registration.&nbsp\;\n\n<hr />
LOCATION:Join us from the comfort of your own office via Zoom: OR join us in person and we will watch via Zoom together (maximum of 10).
UID:e.551.7256
SEQUENCE:3
DTSTAMP:20260421T190524Z
URL:https://business.goldenchamber.org/events/details/brown-bag-lunch-learn-moving-forward-in-2021-with-hope-and-resilience-7256
END:VEVENT

END:VCALENDAR
