BEGIN:VCALENDAR
VERSION:2.0
PRODID:-//ChamberMaster//Event Calendar 2.0//EN
METHOD:PUBLISH
X-PUBLISHED-TTL:P3D
REFRESH-INTERVAL:P3D
CALSCALE:GREGORIAN
BEGIN:VEVENT
DTSTART:20250325T180000Z
DTEND:20250325T190000Z
X-MICROSOFT-CDO-ALLDAYEVENT:FALSE
SUMMARY:Behind the Scenes: TOUR Engineering
DESCRIPTION:Join us for a Behind the Scenes Tour of TOUR Engineering with owners Dan and Erin Livingston.  TOUR Engineering are the makers of Freedom Trax\, winner of "Coolest Thing Made in Colorado" in 2024\, awarded by the Colorado Chamber of Commerce.
X-ALT-DESC;FMTTYPE=text/html:Join us for a Behind the Scenes Tour of TOUR Engineering with owners Dan and Erin Livingston.&nbsp\; TOUR Engineering are the makers of Freedom Trax\, winner of &quot\;Coolest Thing Made in Colorado&quot\; in 2024\, awarded by the Colorado Chamber of Commerce.
LOCATION:4323 Kilmer St Golden\, CO 80403
UID:e.551.10914
SEQUENCE:3
DTSTAMP:20260425T222748Z
URL:https://business.goldenchamber.org/events/details/behind-the-scenes-tour-engineering-10914
END:VEVENT

END:VCALENDAR
