BEGIN:VCALENDAR
VERSION:2.0
PRODID:-//ChamberMaster//Event Calendar 2.0//EN
METHOD:PUBLISH
X-PUBLISHED-TTL:P3D
REFRESH-INTERVAL:P3D
CALSCALE:GREGORIAN
BEGIN:VEVENT
DTSTART;VALUE=DATE:20260615
DTEND;VALUE=DATE:20260616
TRANSP:TRANSPARENT
X-MICROSOFT-CDO-ALLDAYEVENT:TRUE
SUMMARY:All Day Dine Back @ The Eddy
DESCRIPTION:10% of all sales go back to Golden Pantry and Thrift to support the Golden community with food and other essential services at The Eddy Taproom.
X-ALT-DESC;FMTTYPE=text/html:10% of all sales go back to Golden Pantry and Thrift to support the Golden community with food and other essential services at The Eddy Taproom.&nbsp\;
LOCATION:The Eddy
UID:e.551.15079
SEQUENCE:3
DTSTAMP:20260421T085118Z
URL:https://business.goldenchamber.org/events/details/all-day-dine-back-the-eddy-15079
END:VEVENT

END:VCALENDAR
