BEGIN:VCALENDAR
VERSION:2.0
PRODID:-//ChamberMaster//Event Calendar 2.0//EN
METHOD:PUBLISH
X-PUBLISHED-TTL:P3D
REFRESH-INTERVAL:P3D
CALSCALE:GREGORIAN
BEGIN:VEVENT
DTSTART:20241211T000000Z
DTEND:20241211T020000Z
X-MICROSOFT-CDO-ALLDAYEVENT:FALSE
SUMMARY:2024 VIBE@FIVE - Business After Hours Social Event
DESCRIPTION:Come join us and toast your fellow Chambers members and reflect on a great year for our final VIBE@Five for 2024\, hosted by DT Construct.  Festive attire encouraged!\n\n\n\nThe drum drawing is up to $600 this month. One lucky member will be drawn from those who register by Monday\, December 9th at 5pm to win $300. MUST BE PRESENT TO WIN! The remaining $300 will be split\, in the spirit of Colorado Gives Day\, with $150 donations to the following:\n\n \n\n	$150 to the MC-1 Foundation\, supporting on-going needs for Officer Bethany Grusing\n	$150 to a Golden Chamber non-profit through a second drum drawing
X-ALT-DESC;FMTTYPE=text/html:<span style="font-family:tahoma\,sans-serif\;">Come join us and toast your fellow Chambers members and reflect on a great year for our final VIBE@Five for 2024\, hosted by DT Construct.&nbsp\;&nbsp\;<em><span style="color:blue\;">Festive attire encouraged!</span></em><br />\n<br />\n<strong><span style="color:green\;">The drum drawing is up to $600 this month.</span></strong>&nbsp\;<strong>One lucky member will be drawn from those who&nbsp\;</strong><em><strong><span style="color:red\;">register by Monday\, December 9th at 5pm</span></strong></em>&nbsp\;<strong>to win $300</strong>. <span style="color:#008000\;"><strong>MUST BE PRESENT TO WIN!</strong></span> The remaining $300 will be split\, in the spirit of Colorado Gives Day\, with $150 donations to the following:</span><br />\n<em><span style="font-family:tahoma\,sans-serif\;">&#8203\;</span></em>\n<ul>\n	<li><em><span style="font-family:tahoma\,sans-serif\;">$150 to the MC-1 Foundation\, supporting on-going needs for Officer Bethany Grusing</span></em></li>\n	<li><em><span style="font-family:tahoma\,sans-serif\;"><em>$150 to a Golden Chamber non-profit through a second drum drawing</em></span></em></li>\n</ul>\n
LOCATION:DT Construct 15800 W Colfax Avenue Parking is available on the south side of the building. Enter through the gate.
UID:e.551.9709
SEQUENCE:3
DTSTAMP:20260420T202257Z
URL:https://business.goldenchamber.org/events/details/2024-vibe-five-business-after-hours-social-event-12-10-2024-9709
END:VEVENT

END:VCALENDAR
