BEGIN:VCALENDAR
VERSION:2.0
PRODID:-//ChamberMaster//Event Calendar 2.0//EN
METHOD:PUBLISH
X-PUBLISHED-TTL:P3D
REFRESH-INTERVAL:P3D
CALSCALE:GREGORIAN
BEGIN:VEVENT
DTSTART:20241019T190000Z
DTEND:20241019T220000Z
X-MICROSOFT-CDO-ALLDAYEVENT:FALSE
SUMMARY:2024 Golden Beverage Tasting & Chili Cook-Off
DESCRIPTION:Presented by the Golden Chamber of Commerce\, in partnership with Coors Distributing Company\, the Golden Beverage Tasting & Chili Cook-Off is a celebration of chili and community! \n\nTicketed guests enjoy an afternoon of fun\, with unlimited beverage and chili tastings (as long as supplies last)\, entertainment\, snack vendors and the Awards Ceremony!  The new logo and name this year encompass the variety of samples\, including seltzers\, spirits\, gluten-free and non-alcoholic options available beyond beer!  \n\n\n\nTasting tickets\, as well as child and designated driver tickets are available. No tickets will be available at the door this year!\n\n \n\nNOTE:  The event is rain or shine!  Come prepared for any unpredictable Colorado fall weather - and help support the Golden Chamber and St. Jude Children's Research Hospital.\n\n\n\nGet exposure for your business at this event through sponsorship\, exhibiting\, or being a chili cook!  Volunteer opportunities are also available.
X-ALT-DESC;FMTTYPE=text/html:<p>Presented by the Golden Chamber of Commerce\, in partnership with Coors Distributing Company\, the Golden Beverage&nbsp\;Tasting &amp\; Chili Cook-Off is a celebration of chili and community!&nbsp\;</p>\n\n<p>Ticketed guests enjoy an afternoon of fun\, with unlimited beverage&nbsp\;and chili tastings (as long as supplies last)\, entertainment\, snack vendors and the Awards Ceremony!&nbsp\;&nbsp\;The new logo and name this year encompass the variety of samples\, including seltzers\, spirits\, gluten-free and non-alcoholic options available beyond beer!&nbsp\;&nbsp\;<br />\n<br />\nTasting tickets\, as well as child and designated driver tickets are available. No tickets will be available at the door this year!<br />\n&nbsp\;</p>\n\n<p>NOTE:&nbsp\; The event is rain or shine!&nbsp\; Come prepared for any unpredictable Colorado fall weather - and help support the Golden Chamber and St. Jude Children&#39\;s Research Hospital.<br />\n<br />\nGet exposure for your business at this event through&nbsp\;<strong>sponsorship\,&nbsp\;exhibiting\, or being a&nbsp\;chili cook</strong>!&nbsp\; Volunteer opportunities are also available.</p>\n
LOCATION:Parfet Park (corner of 10th & Washington Ave) Golden\, Colorado
UID:e.551.9713
SEQUENCE:3
DTSTAMP:20260420T223451Z
URL:https://business.goldenchamber.org/events/details/2024-golden-beverage-tasting-chili-cook-off-9713
END:VEVENT

END:VCALENDAR
